BEGIN:VCALENDAR
VERSION:2.0
PRODID:-//Big D Kettle Corn - ECPv6.15.20//NONSGML v1.0//EN
CALSCALE:GREGORIAN
METHOD:PUBLISH
X-WR-CALNAME:Big D Kettle Corn
X-ORIGINAL-URL:https://bigdkettlecorn.com
X-WR-CALDESC:Events for Big D Kettle Corn
REFRESH-INTERVAL;VALUE=DURATION:PT1H
X-Robots-Tag:noindex
X-PUBLISHED-TTL:PT1H
BEGIN:VTIMEZONE
TZID:America/Chicago
BEGIN:DAYLIGHT
TZOFFSETFROM:-0600
TZOFFSETTO:-0500
TZNAME:CDT
DTSTART:20250309T080000
END:DAYLIGHT
BEGIN:STANDARD
TZOFFSETFROM:-0500
TZOFFSETTO:-0600
TZNAME:CST
DTSTART:20251102T070000
END:STANDARD
BEGIN:DAYLIGHT
TZOFFSETFROM:-0600
TZOFFSETTO:-0500
TZNAME:CDT
DTSTART:20260308T080000
END:DAYLIGHT
BEGIN:STANDARD
TZOFFSETFROM:-0500
TZOFFSETTO:-0600
TZNAME:CST
DTSTART:20261101T070000
END:STANDARD
BEGIN:DAYLIGHT
TZOFFSETFROM:-0600
TZOFFSETTO:-0500
TZNAME:CDT
DTSTART:20270314T080000
END:DAYLIGHT
BEGIN:STANDARD
TZOFFSETFROM:-0500
TZOFFSETTO:-0600
TZNAME:CST
DTSTART:20271107T070000
END:STANDARD
END:VTIMEZONE
BEGIN:VEVENT
DTSTART;TZID=America/Chicago:20260430T150000
DTEND;TZID=America/Chicago:20260503T210000
DTSTAMP:20260422T104447
CREATED:20240311T173103Z
LAST-MODIFIED:20260212T005812Z
UID:5357-1777561200-1777842000@bigdkettlecorn.com
SUMMARY:Mayfest Ft Worth 2026
DESCRIPTION:Mayfest is the biggest party in Fort Worth! Four days of live music\, festival food\, Big D Kettle Corn\, carnival rides\, performing arts\, pet adoptions\, more than 60 Art and Gift Market vendors\, free children’s activities\, special attractions – the list goes on and on! Held on the first weekend in May on 33 glorious acres in Fort Worth’s Trinity Park\, Mayfest is one event you won’t want to miss! \nMayfest is produced by Trinity Collaborative\, Inc.\, a 501(c) 3 organization. The proceeds from each year’s festival are given back to the community in support of programs from three of Mayfest’s founding organizations – The Junior League of Fort Worth\, Inc.\, Streams & Valleys\, Inc.\, and The City of Fort Worth Park and Recreation Department. Trinity Collaborative\, Inc. is proud to have given back more than $7.5 million to benefit the city of Fort Worth and it’s citizens.
URL:https://bigdkettlecorn.com/event/mayfest-ft-worth/
LOCATION:Trinity Park\, 2401 University Dr\,\, Ft Worth\, TX\, 76107
CATEGORIES:Spring Festival
ATTACH;FMTTYPE=image/jpeg:https://bigdkettlecorn.com/wp-content/uploads/2024/03/Unknown-3.jpeg
END:VEVENT
BEGIN:VEVENT
DTSTART;TZID=America/Chicago:20260501T190000
DTEND;TZID=America/Chicago:20260501T220000
DTSTAMP:20260422T104447
CREATED:20260303T185758Z
LAST-MODIFIED:20260303T185758Z
UID:6411-1777662000-1777672800@bigdkettlecorn.com
SUMMARY:Music Made Here Garland ~ La Nueva Fortaleza
DESCRIPTION:Enjoy an evening out in Downtown Garland with FREE live music\, delicious food\, and Big D Kettle Corn. Festivities begin at 7 p.m. \nLa Nueva Fortaleza is a Regional Mexican group formed in San Luis Potosí in 2023\, created by Jesús Carrizales and produced by multi-GRAMMY and Latin GRAMMY nominee Dany Fender. With a mission to modernize the norteño sax sound\, they debuted with “Lagunas” and released the EP A tu Recuerdo. \nKnown for blending traditional norteño sax with other genres\, they continue building momentum through standout collaborations and new music under the independent label Somos Voyager Music.
URL:https://bigdkettlecorn.com/event/music-made-here-garland-la-nueva-fortaleza/
LOCATION:Downtown Garland Square\, 200 N. Fifth St.\, Garland\, TX
CATEGORIES:Music and Art Festivals
ATTACH;FMTTYPE=image/jpeg:https://bigdkettlecorn.com/wp-content/uploads/2026/03/MMH2026_May1_LaNuevaFortaleza_1920x10051.jpg
END:VEVENT
BEGIN:VEVENT
DTSTART;TZID=America/Chicago:20260502T100000
DTEND;TZID=America/Chicago:20260504T170000
DTSTAMP:20260422T104447
CREATED:20191022T171736Z
LAST-MODIFIED:20260212T005459Z
UID:1522-1777716000-1777914000@bigdkettlecorn.com
SUMMARY:Cottonwood Art Festival Spring 2026
DESCRIPTION:From its humble beginnings in 1969\, the Cottonwood Art Festival has developed into one of the most prestigious fine art festivals in the United States.Local artists staged their first Festival at the scenic Cottonwood Park in Richardson\, Texas. It was all tie-dye\, bell-bottoms and braids back then where the artists laid down blankets and set up easels with the hopes of selling s few pieces of art. Since that first weekend nearly five decades later\, Cottonwood has established itself as signature art event\, become a tradition in the community and the home to the finest artists in the country for the first weekend of may. What goes better with art than some Big D Kettle Corn? We look forward to seeing you there.
URL:https://bigdkettlecorn.com/event/1522/
LOCATION:Cottonwood Park\, 1321 W. Beltline Rd.\, Richardson\, TX\, 75080\, United States
CATEGORIES:Art Show
ATTACH;FMTTYPE=image/jpeg:https://bigdkettlecorn.com/wp-content/uploads/2019/10/249129012_4488692377833679_3102010032747818318_n.jpg
END:VEVENT
BEGIN:VEVENT
DTSTART;TZID=America/Chicago:20260508T203000
DTEND;TZID=America/Chicago:20260509T233000
DTSTAMP:20260422T104447
CREATED:20260401T193408Z
LAST-MODIFIED:20260401T193408Z
UID:6430-1778272200-1778369400@bigdkettlecorn.com
SUMMARY:Nocturne's After-Dark Art Trail Frisco
DESCRIPTION:Nocturne\, returns May 8-9\, 2026\, for two unforgettable evenings of immersive art discovery\, where light and sound reimagine the night. This unique after-dark experience⁠ will transform Frisco Commons Park’s familiar trails into dreamlike encounters with art\, nature\, and the unseen. \nFor the first time in its history\, the park will turn into a mile-long outdoor gallery\, with light\, video\, and sound installations emerging along its winding trails. Conceived as an after-dark art trail through nature\, the experience is created by leading regional artists. Each piece invites reflection\, play\, and a heightened awareness of the world after dusk. Dont forget to take a bag of Big D Kettle  Corn on your walk
URL:https://bigdkettlecorn.com/event/nocturnes-after-dark-art-trail-frisco/
LOCATION:Frisco Commons Park\, 8000 McKinney Rd\, Frisco\, TX\, 75034
CATEGORIES:Music and Art Festivals
ATTACH;FMTTYPE=image/jpeg:https://bigdkettlecorn.com/wp-content/uploads/2026/04/Document-scaled.jpeg
END:VEVENT
BEGIN:VEVENT
DTSTART;TZID=America/Chicago:20260515T080000
DTEND;TZID=America/Chicago:20260517T170000
DTSTAMP:20260422T104447
CREATED:20250405T155902Z
LAST-MODIFIED:20260401T174024Z
UID:5613-1778832000-1779037200@bigdkettlecorn.com
SUMMARY:Main Street Fest Grapevine
DESCRIPTION:Main Street Fest is a family-friendly festival in the heart of Historic Grapevine\, Texas\, that is three fun-filled days of live music\, craft beverage experiences\, delicious eats\, shopping\, a unique KidZone\, tons of fun in the Carnival Midway and Big D Kettle Corn!!
URL:https://bigdkettlecorn.com/event/main-street-fest-grapevine/
LOCATION:Downtown Grapevine\, 636 S Main st\, Grapevine\, Texas\, 76051
CATEGORIES:Spring Festival
ATTACH;FMTTYPE=image/png:https://bigdkettlecorn.com/wp-content/uploads/2025/04/mainstreetgrape.png
END:VEVENT
BEGIN:VEVENT
DTSTART;TZID=America/Chicago:20260515T180000
DTEND;TZID=America/Chicago:20260517T180000
DTSTAMP:20260422T104447
CREATED:20230127T215541Z
LAST-MODIFIED:20260212T214213Z
UID:4907-1778868000-1779040800@bigdkettlecorn.com
SUMMARY:Wildflower Music and Arts Festival
DESCRIPTION:Wildflower! Arts & Music Festival is an internationally award-winning eclectic music festival that draws over 70\,000 attendees for programming which includes local\, regional\, and national headliner entertainment on four outdoor stages\, the Singer/Songwriter Contest and Stage\, the Kidz Korner family area and petting zoo\, strolling entertainers\, buskers and acrobats\, interactive displays and exhibits\, the Art Guitar Auction\, the Wild! Marketplace\, and The Taste of Texas Food Garden\, featuring Big D Kettle Corn.
URL:https://bigdkettlecorn.com/event/wildflower-festival/
LOCATION:Between Galatyn Pkwy. and Lookout Dr. Richardson\, Texas 75081\, Richardson\, Texas\, 75081
CATEGORIES:Music and Art Festivals
ATTACH;FMTTYPE=image/png:https://bigdkettlecorn.com/wp-content/uploads/2023/01/Unknown-1.png
END:VEVENT
BEGIN:VEVENT
DTSTART;TZID=America/Chicago:20260528T080000
DTEND;TZID=America/Chicago:20260530T170000
DTSTAMP:20260422T104447
CREATED:20260415T185826Z
LAST-MODIFIED:20260415T190113Z
UID:6438-1779955200-1780160400@bigdkettlecorn.com
SUMMARY:Magnolia Festival of Oklahoma
DESCRIPTION:Honoring the heritage of Durant\, also known as the “City of Magnolias\,” the annual Magnolia Festival of Oklahoma features games and festivities perfect for a fun-filled family weekend. Held annually since 1997\, the Magnolia Festival takes place the weekend following Memorial Day each year. \nOutside of the Event Center\, ride the Ferris wheel and enjoy a wide array of carnival rides\, games and Food Truck City. Head inside the Event Center to peruse the craft and food booths\, exhibitor displays\, and Children’s Area. The Event Center will also include around-the-clock\, free\, family-friendly entertainment. Big D Kettle Corn will be available both inside and out side the event center. \nThe Magnolia Festival also hosts a variety of other activities happening throughout the community including the Magnolia Farmers Market and the Magnolia 5K & Fun Run in Downtown Durant\, Veterans’ Reception\, and more. \nWith a wide variety of events\, entertainment\, activities\, food\, and exhibitions\, the Magnolia Festival of Oklahoma is a guaranteed fun-filled weekend for visitors of all ages.
URL:https://bigdkettlecorn.com/event/magnolia-festival-of-oklahoma/
LOCATION:Choctaw Event Center\, 3702 Choctaw Rd\, Durrant\, OK\, 74701
CATEGORIES:Heritage Festival
ATTACH;FMTTYPE=image/webp:https://bigdkettlecorn.com/wp-content/uploads/2026/04/998ad562-fc62-44b8-9529-326821fd4b27.webp
END:VEVENT
END:VCALENDAR