BEGIN:VCALENDAR
VERSION:2.0
PRODID:-//Big D Kettle Corn - ECPv6.15.20//NONSGML v1.0//EN
CALSCALE:GREGORIAN
METHOD:PUBLISH
X-WR-CALNAME:Big D Kettle Corn
X-ORIGINAL-URL:https://bigdkettlecorn.com
X-WR-CALDESC:Events for Big D Kettle Corn
REFRESH-INTERVAL;VALUE=DURATION:PT1H
X-Robots-Tag:noindex
X-PUBLISHED-TTL:PT1H
BEGIN:VTIMEZONE
TZID:America/Chicago
BEGIN:DAYLIGHT
TZOFFSETFROM:-0600
TZOFFSETTO:-0500
TZNAME:CDT
DTSTART:20250309T080000
END:DAYLIGHT
BEGIN:STANDARD
TZOFFSETFROM:-0500
TZOFFSETTO:-0600
TZNAME:CST
DTSTART:20251102T070000
END:STANDARD
BEGIN:DAYLIGHT
TZOFFSETFROM:-0600
TZOFFSETTO:-0500
TZNAME:CDT
DTSTART:20260308T080000
END:DAYLIGHT
BEGIN:STANDARD
TZOFFSETFROM:-0500
TZOFFSETTO:-0600
TZNAME:CST
DTSTART:20261101T070000
END:STANDARD
BEGIN:DAYLIGHT
TZOFFSETFROM:-0600
TZOFFSETTO:-0500
TZNAME:CDT
DTSTART:20270314T080000
END:DAYLIGHT
BEGIN:STANDARD
TZOFFSETFROM:-0500
TZOFFSETTO:-0600
TZNAME:CST
DTSTART:20271107T070000
END:STANDARD
END:VTIMEZONE
BEGIN:VEVENT
DTSTART;TZID=America/Chicago:20260313T190000
DTEND;TZID=America/Chicago:20260313T220000
DTSTAMP:20260422T104444
CREATED:20240209T194214Z
LAST-MODIFIED:20260304T210814Z
UID:5347-1773428400-1773439200@bigdkettlecorn.com
SUMMARY:Garland Music Made Here Concert Series: Chayce Beckham and Sterling Elza
DESCRIPTION:Music Made Here Concert Series continues in 2026 with Chayce Beckham and Sterling Elza \nJoin us on the first Friday in March Bring your family to savor delectable bites from local restaurants\, and let the kids run in the play area on the Garland Square. \nThis is a free concert and a fun Friday night outing\, come get some Big D Kettle Corn
URL:https://bigdkettlecorn.com/event/music-made-here-garland-2/
LOCATION:Downtown Garland Square\, 200 N. Fifth St.\, Garland\, TX
CATEGORIES:Music and Art Festivals
ATTACH;FMTTYPE=image/jpeg:https://bigdkettlecorn.com/wp-content/uploads/2024/02/MMH2026_ChayceBeckham_1920x1005-FB.jpg
END:VEVENT
BEGIN:VEVENT
DTSTART;TZID=America/Chicago:20260321T090000
DTEND;TZID=America/Chicago:20260322T170000
DTSTAMP:20260422T104444
CREATED:20210923T154215Z
LAST-MODIFIED:20260303T171951Z
UID:3969-1774083600-1774198800@bigdkettlecorn.com
SUMMARY:Sherman Celtic Festival and Highland Games
DESCRIPTION:Buckle up your boots and press your kilts- Sherman Celtic Festival is back! Join us for a family-friendly event featuring some of the best music\, dance\, and athletic performers in the southern United States! don’t forget the Big D Kettle Corn \nSome proceeds from the Sherman Celtic Festival benefits the Scottish Rite Hospital for Children. Come help support a good cause. \n-The event will be held at Pecan Grove West Park in Sherman\, TX.\n​\n-Parking will be available on site for no charge. \n​
URL:https://bigdkettlecorn.com/event/sherman-celtic-festival-and-highland-games/
LOCATION:Pecan Grove West Park\, 3200 Canyon Creek Dr\, Sherman\, TX\, 75092
CATEGORIES:Cultural Festival
ATTACH;FMTTYPE=image/jpeg:https://bigdkettlecorn.com/wp-content/uploads/2021/09/200387324_4043418889068697_6076907146166659474_n.jpg
END:VEVENT
BEGIN:VEVENT
DTSTART;TZID=America/Chicago:20260321T110000
DTEND;TZID=America/Chicago:20260321T180000
DTSTAMP:20260422T104444
CREATED:20240323T213633Z
LAST-MODIFIED:20260213T204145Z
UID:4721-1774090800-1774116000@bigdkettlecorn.com
SUMMARY:Texas Forever Fest 2026 Plano
DESCRIPTION:Texas Forever Fest is a celebration of the food\, art\, music\, and people that make the Lone Star State unforgettable. \nJoin us Saturday\, March 21\, 2026\, from 11 a.m. to 6 p.m. at Haggard Park in Plano for a free\, all-ages festival that’s as bold and welcoming as Texas itself. \nOur beautiful state is home to big skies and even bigger dreams and we’re throwing a party just as big as Texas. There’s no friendlier place than our home state\, and we’re rolling out the welcome mat for everyone. Enjoy a full day of live music\, entertainment\, interactive activities\, food\, drinks\, and vendors\, all inspired by Texas’ rich and diverse culture. \nEnjoy live music\, live Western entertainment\, Texas-favorite food and drink\, Dont forget that Big D Kettle Corn!!
URL:https://bigdkettlecorn.com/event/texas-forever-fest-2022/
LOCATION:Haggard Park\, 901 E 15th St\, plano\, Texas\, 75074\, United States
CATEGORIES:Cultural Festival
ATTACH;FMTTYPE=image/png:https://bigdkettlecorn.com/wp-content/uploads/2022/03/Texas-Forever-Fest-Logo-PNG.png
END:VEVENT
BEGIN:VEVENT
DTSTART;TZID=America/Chicago:20260328T100000
DTEND;TZID=America/Chicago:20260328T193000
DTSTAMP:20260422T104444
CREATED:20260212T012515Z
LAST-MODIFIED:20260212T012515Z
UID:5746-1774692000-1774726200@bigdkettlecorn.com
SUMMARY:Texas Country Reporter Fest 2026
DESCRIPTION:Hop in and travel to Grand Prairie for the thirtieth annual Texas Country Reporter Festival this spring—Saturday\, March 28! Shop vendors and artisans—some of which you’ve seen featured on the show! Enjoy food trucks\, free concert\, and Big D Kettle Corn. We’re bringing the backroads to you for one day only\, so don’t miss it.
URL:https://bigdkettlecorn.com/event/texas-country-reporter-fest-2026/
LOCATION:Grand Prarie Down Town\, 300 W. Main St\, Grand Prairie\, TX\, 75050\, United States
CATEGORIES:Music and Art Festivals
ATTACH;FMTTYPE=image/webp:https://bigdkettlecorn.com/wp-content/uploads/2026/02/TCRF26_TM-Website-1350x900-1.jpg.webp
END:VEVENT
BEGIN:VEVENT
DTSTART;TZID=America/Chicago:20260328T110000
DTEND;TZID=America/Chicago:20260329T200000
DTSTAMP:20260422T104444
CREATED:20260212T011244Z
LAST-MODIFIED:20260303T172319Z
UID:5743-1774695600-1774814400@bigdkettlecorn.com
SUMMARY:Dallas Country Music Festival McKinney
DESCRIPTION:Come and experience major concerts from CMA\, Texas CMA\, and Billboard Top 10 artists performing live\, plus the Arts & Crafts Marketplace\, a Farmers Fresh Market\, and the Texas Food and Beverage garden\, featuring Big D Kettle Corn.
URL:https://bigdkettlecorn.com/event/dallas-country-music-festival-mckinney/
LOCATION:Myers Park\, 7117 County Road 166\, McKinney\, TX\, 75071
CATEGORIES:Music and Art Festivals
ATTACH;FMTTYPE=image/png:https://bigdkettlecorn.com/wp-content/uploads/2026/02/logo-dallas-2026.png
END:VEVENT
END:VCALENDAR