BEGIN:VCALENDAR
VERSION:2.0
PRODID:-//Big D Kettle Corn - ECPv6.15.20//NONSGML v1.0//EN
CALSCALE:GREGORIAN
METHOD:PUBLISH
X-WR-CALNAME:Big D Kettle Corn
X-ORIGINAL-URL:https://bigdkettlecorn.com
X-WR-CALDESC:Events for Big D Kettle Corn
REFRESH-INTERVAL;VALUE=DURATION:PT1H
X-Robots-Tag:noindex
X-PUBLISHED-TTL:PT1H
BEGIN:VTIMEZONE
TZID:America/Chicago
BEGIN:DAYLIGHT
TZOFFSETFROM:-0600
TZOFFSETTO:-0500
TZNAME:CDT
DTSTART:20250309T080000
END:DAYLIGHT
BEGIN:STANDARD
TZOFFSETFROM:-0500
TZOFFSETTO:-0600
TZNAME:CST
DTSTART:20251102T070000
END:STANDARD
BEGIN:DAYLIGHT
TZOFFSETFROM:-0600
TZOFFSETTO:-0500
TZNAME:CDT
DTSTART:20260308T080000
END:DAYLIGHT
BEGIN:STANDARD
TZOFFSETFROM:-0500
TZOFFSETTO:-0600
TZNAME:CST
DTSTART:20261101T070000
END:STANDARD
BEGIN:DAYLIGHT
TZOFFSETFROM:-0600
TZOFFSETTO:-0500
TZNAME:CDT
DTSTART:20270314T080000
END:DAYLIGHT
BEGIN:STANDARD
TZOFFSETFROM:-0500
TZOFFSETTO:-0600
TZNAME:CST
DTSTART:20271107T070000
END:STANDARD
END:VTIMEZONE
BEGIN:VEVENT
DTSTART;TZID=America/Chicago:20260221T080000
DTEND;TZID=America/Chicago:20260221T170000
DTSTAMP:20260422T103748
CREATED:20260221T163951Z
LAST-MODIFIED:20260223T164035Z
UID:6263-1771660800-1771693200@bigdkettlecorn.com
SUMMARY:Independence Fest 2026
DESCRIPTION:Join us at Flower Mound’s biggest celebration of the year! Independence Fest features a Children’s Parade\, live music\, a variety of food trucks and vendors\, a kid’s zone\, car show\, Big D Kettle Corn\, and\, of course\, an explosive fireworks finale!
URL:https://bigdkettlecorn.com/event/independence-fest-2026/
LOCATION:Bakersfield Park\, 1201 Duncan Ln.) Address: Flower Mound\, TX 75028\, 1201 Duncan Ln.)\, Flower Mound\, Texas\, 75028
CATEGORIES:Fourth of July Celebration
ATTACH;FMTTYPE=image/jpeg:https://bigdkettlecorn.com/wp-content/uploads/2026/02/flower-mound-1024x576-1.jpg
END:VEVENT
BEGIN:VEVENT
DTSTART;TZID=America/Chicago:20260221T100000
DTEND;TZID=America/Chicago:20260221T130000
DTSTAMP:20260422T103748
CREATED:20240117T184908Z
LAST-MODIFIED:20260211T182326Z
UID:5316-1771668000-1771678800@bigdkettlecorn.com
SUMMARY:Irving Frost Fest
DESCRIPTION:CHILL OUT WITH IN THE SNOW AND BIG D KETTLE CORN\nCome enjoy the “cool” side of winter\, without the freezing rain and slick roads. This snowy\, activity-packed event includes: \n\nLittle Spurs Snow-tubing Hills & Play Area\nInteractive Inflatables and Bounce Houses (giant snow globe\, giant snowman bounce house\, snow maze\, snowball throw interactive game\, gingerbread themed bounce house)\nCaricature art\nFace Painters\nBalloon Artists\nFree Train Rides\n100+ Children’s Entrepreneur Market Vendors\nCrafts\nPhoto Opportunities\nFood Vendors
URL:https://bigdkettlecorn.com/event/irving-frost-fest/
LOCATION:Levy Plaza\, 501 E. Las Colinas Blvd.\, irving\, TX
CATEGORIES:Cultural Festival
ATTACH;FMTTYPE=image/png:https://bigdkettlecorn.com/wp-content/uploads/2024/01/Document.png
END:VEVENT
BEGIN:VEVENT
DTSTART;TZID=America/Chicago:20260228T170000
DTEND;TZID=America/Chicago:20260228T210000
DTSTAMP:20260422T103748
CREATED:20240201T031337Z
LAST-MODIFIED:20260223T173407Z
UID:5337-1772298000-1772312400@bigdkettlecorn.com
SUMMARY:Big Easy in Little Elm
DESCRIPTION:Join Big D Kettle Corn for your Cajun favorites including:\n⚜️ A Mardi Gras-themed 5K and fun walk\n⚜️ Crawfish boil\n⚜️ Live music from SPAZMATICS\n⚜️ Hot air balloon glow\n⚜️ Fun contests and programming\n⚜️ Food trucks and vendors\n⚜️ Art displays and shopping
URL:https://bigdkettlecorn.com/event/big-easy-in-little-elm/
LOCATION:Little Elm Park\, 701 El Dorado Parkway\, Little ELm\, TX\, 75608
CATEGORIES:Cultural Festival
ATTACH;FMTTYPE=image/jpeg:https://bigdkettlecorn.com/wp-content/uploads/2024/01/608432-cover-nh6wjndxcwfj1700077734-1200.jpg
END:VEVENT
END:VCALENDAR