BEGIN:VCALENDAR
VERSION:2.0
PRODID:-//Big D Kettle Corn - ECPv6.15.20//NONSGML v1.0//EN
CALSCALE:GREGORIAN
METHOD:PUBLISH
X-ORIGINAL-URL:https://bigdkettlecorn.com
X-WR-CALDESC:Events for Big D Kettle Corn
REFRESH-INTERVAL;VALUE=DURATION:PT1H
X-Robots-Tag:noindex
X-PUBLISHED-TTL:PT1H
BEGIN:VTIMEZONE
TZID:America/Chicago
BEGIN:DAYLIGHT
TZOFFSETFROM:-0600
TZOFFSETTO:-0500
TZNAME:CDT
DTSTART:20240310T080000
END:DAYLIGHT
BEGIN:STANDARD
TZOFFSETFROM:-0500
TZOFFSETTO:-0600
TZNAME:CST
DTSTART:20241103T070000
END:STANDARD
BEGIN:DAYLIGHT
TZOFFSETFROM:-0600
TZOFFSETTO:-0500
TZNAME:CDT
DTSTART:20250309T080000
END:DAYLIGHT
BEGIN:STANDARD
TZOFFSETFROM:-0500
TZOFFSETTO:-0600
TZNAME:CST
DTSTART:20251102T070000
END:STANDARD
BEGIN:DAYLIGHT
TZOFFSETFROM:-0600
TZOFFSETTO:-0500
TZNAME:CDT
DTSTART:20260308T080000
END:DAYLIGHT
BEGIN:STANDARD
TZOFFSETFROM:-0500
TZOFFSETTO:-0600
TZNAME:CST
DTSTART:20261101T070000
END:STANDARD
END:VTIMEZONE
BEGIN:VEVENT
DTSTART;TZID=America/Chicago:20250703T080000
DTEND;TZID=America/Chicago:20250703T170000
DTSTAMP:20260423T002636
CREATED:20250329T212132Z
LAST-MODIFIED:20250329T220402Z
UID:5606-1751529600-1751562000@bigdkettlecorn.com
SUMMARY:Addison Kaboom Town
DESCRIPTION:Since 1985 one of the nation’s most impressive and unique Independence Day celebrations has been held in Addison. Each year approximately 500\,000 guests from across the country converge on this small town to view the incredible Addison Airport Airshow\, followed by a spectacular fireworks display. Whether enjoyed from a restaurant watch party\, hotel balcony\, or the award-winning festival in Addison Circle Park\, a fantastic time and place to enjoy your big d kettle corn!
URL:https://bigdkettlecorn.com/event/addison-kaboom-town/
LOCATION:Addison Circle Park\, 4970 Addison Circle\, Addison\, Texas\, 75001
CATEGORIES:Fourth of July Celebration
ATTACH;FMTTYPE=image/jpeg:https://bigdkettlecorn.com/wp-content/uploads/2025/03/kaboom.jpeg
END:VEVENT
BEGIN:VEVENT
DTSTART;TZID=America/Chicago:20250726T183000
DTEND;TZID=America/Chicago:20250726T220000
DTSTAMP:20260423T002636
CREATED:20240717T132343Z
LAST-MODIFIED:20250627T024037Z
UID:5438-1753554600-1753567200@bigdkettlecorn.com
SUMMARY:Texas Black Invitational Rodeo Dallas\, TX - Fair Park Coliseum
DESCRIPTION:Hey y’all! Throw on your cowboy hat\, boots\, and buckles\, and giddy up to the 35th Texas Black Invitational Rodeo on Saturday\, July 27\, at 7 p.m. at the Fair Park Coliseum. \nPresented by the African American Museum\, Dallas\, the family-fun rodeo features African American cowboys and cowgirls as they compete for cash prizes in bronc and bull riding\, calf and steer roping\, barrel racing\, and a Pony Express relay race. \nKicking off with the Grand Entry Parade at 6:30 p.m.\, the fast-paced evening of thrills provides guests with a glimpse of the historical contributions that African Americans made in the settling of the western United States. \nOther highlights include trick lasso performances\, music\, and more. Concessions will be available inside the Coliseum. \nProceeds from the annual Black Rodeo go to supporting the mission of the African American Museum of Dallas\, a non-profit 5013c. For more information\, go to aamdallas.org. \nSave the Date for one of our largest and most exciting fundraising events of the year for the African American Museum. Make sure you get some Big D Kettle Corn while you are there.
URL:https://bigdkettlecorn.com/event/texas-black-invitational-rodeo-dallas-tx-fair-park-coliseum/
LOCATION:Fair Park\, 3809 Grand Ave\, Dallas\, TX\, 75210\, United States
CATEGORIES:Rodeo
ATTACH;FMTTYPE=image/jpeg:https://bigdkettlecorn.com/wp-content/uploads/2024/07/440126289_862088962611777_1153578538557811864_n.jpg
END:VEVENT
END:VCALENDAR