BEGIN:VCALENDAR
VERSION:2.0
PRODID:-//Big D Kettle Corn - ECPv6.15.20//NONSGML v1.0//EN
CALSCALE:GREGORIAN
METHOD:PUBLISH
X-WR-CALNAME:Big D Kettle Corn
X-ORIGINAL-URL:https://bigdkettlecorn.com
X-WR-CALDESC:Events for Big D Kettle Corn
REFRESH-INTERVAL;VALUE=DURATION:PT1H
X-Robots-Tag:noindex
X-PUBLISHED-TTL:PT1H
BEGIN:VTIMEZONE
TZID:America/Chicago
BEGIN:DAYLIGHT
TZOFFSETFROM:-0600
TZOFFSETTO:-0500
TZNAME:CDT
DTSTART:20240310T080000
END:DAYLIGHT
BEGIN:STANDARD
TZOFFSETFROM:-0500
TZOFFSETTO:-0600
TZNAME:CST
DTSTART:20241103T070000
END:STANDARD
BEGIN:DAYLIGHT
TZOFFSETFROM:-0600
TZOFFSETTO:-0500
TZNAME:CDT
DTSTART:20250309T080000
END:DAYLIGHT
BEGIN:STANDARD
TZOFFSETFROM:-0500
TZOFFSETTO:-0600
TZNAME:CST
DTSTART:20251102T070000
END:STANDARD
BEGIN:DAYLIGHT
TZOFFSETFROM:-0600
TZOFFSETTO:-0500
TZNAME:CDT
DTSTART:20260308T080000
END:DAYLIGHT
BEGIN:STANDARD
TZOFFSETFROM:-0500
TZOFFSETTO:-0600
TZNAME:CST
DTSTART:20261101T070000
END:STANDARD
END:VTIMEZONE
BEGIN:VEVENT
DTSTART;TZID=America/Chicago:20250619T170000
DTEND;TZID=America/Chicago:20250628T230000
DTSTAMP:20260423T021425
CREATED:20250613T225328Z
LAST-MODIFIED:20250613T225328Z
UID:5628-1750352400-1751151600@bigdkettlecorn.com
SUMMARY:Big Garland Fair
DESCRIPTION:From June 19th to June 28th\, 2025\, Curtis Culwell Center will host the Big Garland Fair.For 10 days\, you can enjoy ALL NEW RIDES\, amazing food\, and great entertainment — nonstop fun for the whole family! Dont forget to get some Big D Kettle Corn. \nGet amazing discounts on Ride Wristbands\, Gate Admission\, and the MEGAPASS — available for a limited time online\, or at the gate while supplies last. \nDon’t miss this year’s ultimate family celebration!
URL:https://bigdkettlecorn.com/event/big-garland-fair/
LOCATION:Curtis Culwell Center\, 4999 Naaman Forest Blvd\, Garland\, TX\, 75040
ATTACH;FMTTYPE=image/png:https://bigdkettlecorn.com/wp-content/uploads/2025/06/Unknown.png
END:VEVENT
BEGIN:VEVENT
DTSTART;TZID=America/Chicago:20250628T180000
DTEND;TZID=America/Chicago:20250628T220000
DTSTAMP:20260423T021425
CREATED:20240618T095811Z
LAST-MODIFIED:20250625T175721Z
UID:5190-1751133600-1751148000@bigdkettlecorn.com
SUMMARY:SUNNYFEST Red White and Boom Sunnyvale Texas
DESCRIPTION:arks fly at the Town of Sunnyvale’s annual independence celebration in Town Center Park the Saturday before July 4th. This traditional\, patriotic event is free and open to the entire community. With food\, live music\, Big D Kettle Corn\, and plenty of activities for kids\, this event is great way to celebrate!
URL:https://bigdkettlecorn.com/event/sunnyfest-red-white-and-boom-sunnyvale-texas/
LOCATION:Town Center Park\, 356 Tripp Road\, Sunnyvale\, Texas\, 75182
CATEGORIES:Fourth of July Celebration
ATTACH;FMTTYPE=image/jpeg:https://bigdkettlecorn.com/wp-content/uploads/2023/06/Document-3.jpeg
END:VEVENT
END:VCALENDAR