BEGIN:VCALENDAR
VERSION:2.0
PRODID:-//Big D Kettle Corn - ECPv6.15.20//NONSGML v1.0//EN
CALSCALE:GREGORIAN
METHOD:PUBLISH
X-ORIGINAL-URL:https://bigdkettlecorn.com
X-WR-CALDESC:Events for Big D Kettle Corn
REFRESH-INTERVAL;VALUE=DURATION:PT1H
X-Robots-Tag:noindex
X-PUBLISHED-TTL:PT1H
BEGIN:VTIMEZONE
TZID:America/Chicago
BEGIN:DAYLIGHT
TZOFFSETFROM:-0600
TZOFFSETTO:-0500
TZNAME:CDT
DTSTART:20240310T080000
END:DAYLIGHT
BEGIN:STANDARD
TZOFFSETFROM:-0500
TZOFFSETTO:-0600
TZNAME:CST
DTSTART:20241103T070000
END:STANDARD
BEGIN:DAYLIGHT
TZOFFSETFROM:-0600
TZOFFSETTO:-0500
TZNAME:CDT
DTSTART:20250309T080000
END:DAYLIGHT
BEGIN:STANDARD
TZOFFSETFROM:-0500
TZOFFSETTO:-0600
TZNAME:CST
DTSTART:20251102T070000
END:STANDARD
BEGIN:DAYLIGHT
TZOFFSETFROM:-0600
TZOFFSETTO:-0500
TZNAME:CDT
DTSTART:20260308T080000
END:DAYLIGHT
BEGIN:STANDARD
TZOFFSETFROM:-0500
TZOFFSETTO:-0600
TZNAME:CST
DTSTART:20261101T070000
END:STANDARD
END:VTIMEZONE
BEGIN:VEVENT
DTSTART;TZID=America/Chicago:20250308T110000
DTEND;TZID=America/Chicago:20250309T210000
DTSTAMP:20260423T080544
CREATED:20250218T192841Z
LAST-MODIFIED:20250218T192841Z
UID:5572-1741431600-1741554000@bigdkettlecorn.com
SUMMARY:One Piece Day Dallas Fair Park
DESCRIPTION:ONE PIECE DAY Dallas -Card Game Celebration –”\, a celebration dedicated to all ONE PIECE fans is coming to Dallas!\nThere’ll also be the first “ONE PIECE CARD GAME Pre-regional 2025” held here!\nEnjoy the extravagant displays\, commemorative prizes\, special shows only seen here and dont forget your Big D Kettle Corn \nWe are not sure of the hours and will update when we know.
URL:https://bigdkettlecorn.com/event/one-piece-day-dallas-fair-park/
LOCATION:Fair Park\, 3809 Grand Ave\, Dallas\, TX\, 75210\, United States
CATEGORIES:Cultural Festival
ATTACH;FMTTYPE=image/webp:https://bigdkettlecorn.com/wp-content/uploads/2025/02/chara-sanji.webp
END:VEVENT
BEGIN:VEVENT
DTSTART;TZID=America/Chicago:20250314T160000
DTEND;TZID=America/Chicago:20250315T210000
DTSTAMP:20260423T080544
CREATED:20250218T191225Z
LAST-MODIFIED:20250218T191225Z
UID:5568-1741968000-1742072400@bigdkettlecorn.com
SUMMARY:There Great Junk Hunt Dallas\, TX Market
DESCRIPTION:Enjoy live music\, cocktails & shopping some of the best vendors in the country at the Dallas Fair Park ! We’ll be located in the Centennial Hall with over 90\,000 sq. ft. of the freshest junk around. At The Great Junk Hunt you’ll not only find some amazing vintage items\, home decor & more\, but best of all – you’ll have a whole lot of fun along the way! Enjoy live music\, cocktails & shopping some of the best vendors in the country at the Dallas Fair Park! We’ll be located in the Centennial Hall with over 90\,000 sq. ft. of the freshest junk around. At The Great Junk Hunt you’ll not only find some amazing vintage items\, home decor & more\, but best of all – you’ll have a whole lot of fun along the way! Dont forget your Big D Kettle Corn!!!
URL:https://bigdkettlecorn.com/event/there-great-junk-hunt-dallas-tx-market/
LOCATION:Fair Park\, 3809 Grand Ave\, Dallas\, TX\, 75210\, United States
ATTACH;FMTTYPE=image/jpeg:https://bigdkettlecorn.com/wp-content/uploads/2025/02/IMG_2639Large-1.jpg
END:VEVENT
BEGIN:VEVENT
DTSTART;TZID=America/Chicago:20250328T150000
DTEND;TZID=America/Chicago:20250330T220000
DTSTAMP:20260423T080544
CREATED:20250218T193858Z
LAST-MODIFIED:20250218T193858Z
UID:5577-1743174000-1743372000@bigdkettlecorn.com
SUMMARY:Foodieland Dallas Fair Park
DESCRIPTION:FoodieLand is an foodie inspired multi-cultural food and entertainment event taking place at Dallas Fair Park \nWith over 185+ vendors\, we’re bringing you a variety of amazing foods\, games\, and entertainment for the whole family. Dont forget to pick up some Big D Kettle Corn
URL:https://bigdkettlecorn.com/event/foodieland-dallas-fair-park/
LOCATION:Fair Park\, 3809 Grand Ave\, Dallas\, TX\, 75210\, United States
CATEGORIES:Cultural Festival
ATTACH;FMTTYPE=image/jpeg:https://bigdkettlecorn.com/wp-content/uploads/2025/02/img2-1.jpg
END:VEVENT
END:VCALENDAR