BEGIN:VCALENDAR
VERSION:2.0
PRODID:-//Big D Kettle Corn - ECPv6.15.20//NONSGML v1.0//EN
CALSCALE:GREGORIAN
METHOD:PUBLISH
X-ORIGINAL-URL:https://bigdkettlecorn.com
X-WR-CALDESC:Events for Big D Kettle Corn
REFRESH-INTERVAL;VALUE=DURATION:PT1H
X-Robots-Tag:noindex
X-PUBLISHED-TTL:PT1H
BEGIN:VTIMEZONE
TZID:America/Chicago
BEGIN:DAYLIGHT
TZOFFSETFROM:-0600
TZOFFSETTO:-0500
TZNAME:CDT
DTSTART:20230312T080000
END:DAYLIGHT
BEGIN:STANDARD
TZOFFSETFROM:-0500
TZOFFSETTO:-0600
TZNAME:CST
DTSTART:20231105T070000
END:STANDARD
BEGIN:DAYLIGHT
TZOFFSETFROM:-0600
TZOFFSETTO:-0500
TZNAME:CDT
DTSTART:20240310T080000
END:DAYLIGHT
BEGIN:STANDARD
TZOFFSETFROM:-0500
TZOFFSETTO:-0600
TZNAME:CST
DTSTART:20241103T070000
END:STANDARD
BEGIN:DAYLIGHT
TZOFFSETFROM:-0600
TZOFFSETTO:-0500
TZNAME:CDT
DTSTART:20250309T080000
END:DAYLIGHT
BEGIN:STANDARD
TZOFFSETFROM:-0500
TZOFFSETTO:-0600
TZNAME:CST
DTSTART:20251102T070000
END:STANDARD
END:VTIMEZONE
BEGIN:VEVENT
DTSTART;TZID=America/Chicago:20241018T163000
DTEND;TZID=America/Chicago:20241019T220000
DTSTAMP:20260423T154813
CREATED:20240911T192742Z
LAST-MODIFIED:20240911T192913Z
UID:5460-1729269000-1729375200@bigdkettlecorn.com
SUMMARY:Bloomin Bluegrass Festival 2024 Farmers Branch
DESCRIPTION:Celebrate 15 years of traditional Bluegrass music at the Bloomin’ Bluegrass Festival in Farmers Branch. Enjoy two days of great music under the Texas sky and explore historical structures in the park. IBMA nominee for Bluegrass Event of the Year. Dont forget to get your Big D Kettle Corn and enjoy the shows.
URL:https://bigdkettlecorn.com/event/bloomin-bluegrass-festival-2024-farmers-branch/
LOCATION:Farmers Branch Historical Park\, 2540 Farmers Branch Ln\, Farmers Branch\, Texas\, 75234
CATEGORIES:Music and Art Festivals
ATTACH;FMTTYPE=image/jpeg:https://bigdkettlecorn.com/wp-content/uploads/2024/09/bloomin.jpg
END:VEVENT
BEGIN:VEVENT
DTSTART;TZID=America/Chicago:20241019T100000
DTEND;TZID=America/Chicago:20241019T180000
DTSTAMP:20260423T154813
CREATED:20181002T210752Z
LAST-MODIFIED:20240911T193329Z
UID:780-1729332000-1729360800@bigdkettlecorn.com
SUMMARY:Sachse Fall-0-Ween
DESCRIPTION:Come on out to our Inaugural Fall-O-Ween on October 19th\, 2024! It will be a day of fun-filled events that will begin at 10 a.m. and end at 6 p.m. We will have awesome on-stage entertainment all day\, artisan craft vendors from the Boho Market\, food trucks\, a cornhole tournament\, a haunted maze\, carnival games\, balloon twisting\, caricature artists\, a pumpkin hunt on the baseball field at 6 p.m.\, and more! you won’t want to miss out on the spooktacular fun! You will not want to miss this year’s event.  There is something for everyone.. ……Big D Kettle Corn.
URL:https://bigdkettlecorn.com/event/sachse-fallfest/
LOCATION:Heritage Park\, 4408 Hudson Dr\, Sachse\, TX\, 75048\, United States
CATEGORIES:Fall Festival
ATTACH;FMTTYPE=image/png:https://bigdkettlecorn.com/wp-content/uploads/2018/10/falloween.png
END:VEVENT
BEGIN:VEVENT
DTSTART;TZID=America/Chicago:20241026T090000
DTEND;TZID=America/Chicago:20241026T170000
DTSTAMP:20260423T154813
CREATED:20240911T193856Z
LAST-MODIFIED:20240911T193856Z
UID:5471-1729933200-1729962000@bigdkettlecorn.com
SUMMARY:ASPASIANS 2024 FALL MARKETPLACE
DESCRIPTION:The Aspasians are a group of ladies from the Rockwall-Heath community united for the purpose of friendship and service to others. We’ve hosted Aspasians Marketplace since 1972! \n  \nWe’ve raised and donated hundreds of thousands of dollars in scholarship money\, helping local high school seniors achieve their dream of going to college! \n  \nDont forget to get your Big D Kettle Corn while shopping for a great cause.
URL:https://bigdkettlecorn.com/event/aspasians-2024-fall-marketplace/
LOCATION:Wilkerson-Sanders Memorial Stadium\, 1201 T.L. Townsend Drive\, Rockwall\, TX
CATEGORIES:Fall Festival
ATTACH;FMTTYPE=image/jpeg:https://bigdkettlecorn.com/wp-content/uploads/2024/09/Aspasians_Slider_2-1.jpg
END:VEVENT
BEGIN:VEVENT
DTSTART;TZID=America/Chicago:20241026T180000
DTEND;TZID=America/Chicago:20241026T220000
DTSTAMP:20260423T154813
CREATED:20240911T194332Z
LAST-MODIFIED:20240911T194332Z
UID:5476-1729965600-1729980000@bigdkettlecorn.com
SUMMARY:Eerie Irving 2024
DESCRIPTION:Looking for the things that go bump in the night? Come out to Eerie Irving where the Irving Parks and Recreation Department invited the city’s ghouls\, ghosts and not-so-scary monsters to thrill\, shock and entertain\, and eat some great Big D Kettle Corn. \nThis year’s event is costume-friendly and will feature a walk-thru with a series of enclosed and open-air haunted scenes\, including a meat factory\, graveyard and ancient Egypt-themed room. For the younger ghouls and goblins\, there will be free activities such as carnival games\, rides\, an escape room\, pumpkin photos ops and more. A variety of food will be onsite for purchase. Stick around for a pumpkin giveaway at the end of the night\, or win a mini pumpkin at select carnival games.
URL:https://bigdkettlecorn.com/event/eerie-irving-2024/
LOCATION:Trinity View Park\, 2221 E State Hwy 356\, Irving\, TX
CATEGORIES:Fall Festival
ATTACH;FMTTYPE=image/jpeg:https://bigdkettlecorn.com/wp-content/uploads/2024/09/eerie-irving-logo_F55EE8DC-5056-BF65-D6C2A49BF811F724_f5609e56-5056-bf65-d6e2a8d6840ead37.jpg
END:VEVENT
END:VCALENDAR