BEGIN:VCALENDAR
VERSION:2.0
PRODID:-//Big D Kettle Corn - ECPv6.15.20//NONSGML v1.0//EN
CALSCALE:GREGORIAN
METHOD:PUBLISH
X-WR-CALNAME:Big D Kettle Corn
X-ORIGINAL-URL:https://bigdkettlecorn.com
X-WR-CALDESC:Events for Big D Kettle Corn
REFRESH-INTERVAL;VALUE=DURATION:PT1H
X-Robots-Tag:noindex
X-PUBLISHED-TTL:PT1H
BEGIN:VTIMEZONE
TZID:America/Chicago
BEGIN:DAYLIGHT
TZOFFSETFROM:-0600
TZOFFSETTO:-0500
TZNAME:CDT
DTSTART:20230312T080000
END:DAYLIGHT
BEGIN:STANDARD
TZOFFSETFROM:-0500
TZOFFSETTO:-0600
TZNAME:CST
DTSTART:20231105T070000
END:STANDARD
BEGIN:DAYLIGHT
TZOFFSETFROM:-0600
TZOFFSETTO:-0500
TZNAME:CDT
DTSTART:20240310T080000
END:DAYLIGHT
BEGIN:STANDARD
TZOFFSETFROM:-0500
TZOFFSETTO:-0600
TZNAME:CST
DTSTART:20241103T070000
END:STANDARD
BEGIN:DAYLIGHT
TZOFFSETFROM:-0600
TZOFFSETTO:-0500
TZNAME:CDT
DTSTART:20250309T080000
END:DAYLIGHT
BEGIN:STANDARD
TZOFFSETFROM:-0500
TZOFFSETTO:-0600
TZNAME:CST
DTSTART:20251102T070000
END:STANDARD
END:VTIMEZONE
BEGIN:VEVENT
DTSTART;TZID=America/Chicago:20240921T170000
DTEND;TZID=America/Chicago:20240921T220000
DTSTAMP:20260423T170939
CREATED:20180816T231759Z
LAST-MODIFIED:20240911T190221Z
UID:728-1726938000-1726956000@bigdkettlecorn.com
SUMMARY:Garland Guzzler 0.5K Race & Fall Festival
DESCRIPTION:That’s right underachievers\, the City of Garland will host the second Garland Guzzler 0.5K Race on Saturday\, September 21\, 2024\, at Downtown Garland Square. That’s no typo; this is a POINT 5K which is only…546 yards\, 500 meters or 1\,638 feet and we want to see you there! \nJoin your fellow racers for an evening of Oktoberfest themed racing\, games\, food\, and of course live music. We hope to see everyone on their best or “wurst” behavior. \nThis event is a dog-friendly event\, so bring your best friend in their best costume to help you “run” across the finish line! \nWhat are you waiting for? Get up off the couch\, brush the crumbs off your pajama pants\, and register for the race today! This is one event that you will not want to miss! Don’t forget to get a bag or two of Big D Kettle Corn.
URL:https://bigdkettlecorn.com/event/garland-guzzler-0-5k-race/
LOCATION:Downtown Garland Square\, 200 N. Fifth St.\, Garland\, TX
CATEGORIES:Walk/Run 5K
ATTACH;FMTTYPE=image/png:https://bigdkettlecorn.com/wp-content/uploads/2018/08/Guzzler_Cover2.png
END:VEVENT
END:VCALENDAR