BEGIN:VCALENDAR
VERSION:2.0
PRODID:-//Big D Kettle Corn - ECPv6.15.20//NONSGML v1.0//EN
CALSCALE:GREGORIAN
METHOD:PUBLISH
X-ORIGINAL-URL:https://bigdkettlecorn.com
X-WR-CALDESC:Events for Big D Kettle Corn
REFRESH-INTERVAL;VALUE=DURATION:PT1H
X-Robots-Tag:noindex
X-PUBLISHED-TTL:PT1H
BEGIN:VTIMEZONE
TZID:America/Chicago
BEGIN:DAYLIGHT
TZOFFSETFROM:-0600
TZOFFSETTO:-0500
TZNAME:CDT
DTSTART:20230312T080000
END:DAYLIGHT
BEGIN:STANDARD
TZOFFSETFROM:-0500
TZOFFSETTO:-0600
TZNAME:CST
DTSTART:20231105T070000
END:STANDARD
BEGIN:DAYLIGHT
TZOFFSETFROM:-0600
TZOFFSETTO:-0500
TZNAME:CDT
DTSTART:20240310T080000
END:DAYLIGHT
BEGIN:STANDARD
TZOFFSETFROM:-0500
TZOFFSETTO:-0600
TZNAME:CST
DTSTART:20241103T070000
END:STANDARD
BEGIN:DAYLIGHT
TZOFFSETFROM:-0600
TZOFFSETTO:-0500
TZNAME:CDT
DTSTART:20250309T080000
END:DAYLIGHT
BEGIN:STANDARD
TZOFFSETFROM:-0500
TZOFFSETTO:-0600
TZNAME:CST
DTSTART:20251102T070000
END:STANDARD
END:VTIMEZONE
BEGIN:VEVENT
DTSTART;TZID=America/Chicago:20240629T160000
DTEND;TZID=America/Chicago:20240629T160000
DTSTAMP:20260423T213421
CREATED:20240610T221619Z
LAST-MODIFIED:20240618T202821Z
UID:4894-1719676800-1719676800@bigdkettlecorn.com
SUMMARY:Bluegrass on Ballard
DESCRIPTION:Historic Downtown Wylie will indeed be wide awake on June 24 for this free festival featuring top bluegrass bands\, a 200+ car show\, 100+ arts and crafts\, great fair food\, children’s activities and Big D Kettle Corn. A day of fun for the whole family. \nBring your instrument and pick and jam with other musicians on the street or in shops and restaurants throughout the day and don’t forget your lawn chairs or blanket to enjoy a summer evening with Grammy award-winning bluegrass bands in the shade of Olde City Park. \nActivities Schedule\n10 am – 9 pm Arts & Crafts\, Children’s Activities\, Fair Food\n10 am – 5 pm Battle of the Badges Blood Drive\n1 – 9 pm Bluegrass Bands\n4 – 9 pm Car Show
URL:https://bigdkettlecorn.com/event/bluegrass-on-ballard/
LOCATION:Ballard St Wylie\, Wylie\, TX
CATEGORIES:Music and Art Festivals
ATTACH;FMTTYPE=image/jpeg:https://bigdkettlecorn.com/wp-content/uploads/2023/01/bluegrass.jpg
END:VEVENT
BEGIN:VEVENT
DTSTART;TZID=America/Chicago:20240629T170000
DTEND;TZID=America/Chicago:20240629T220000
DTSTAMP:20260423T213421
CREATED:20240609T211718Z
LAST-MODIFIED:20240621T190730Z
UID:4767-1719680400-1719698400@bigdkettlecorn.com
SUMMARY:Celina Splash and Blast
DESCRIPTION:elcome to Splash & Blast\, Celina’s Biggest Summer Bash at Old Celina Park! Join us on Saturday\, June 29\, for an unforgettable day of family-friendly fun and entertainment\, featuring Big D Kettle Corn \n​ \nBring the whole family for a day packed with excitement – admission is FREE! Dive into the thrill of our Kids Zone\, complete with water slides and more. Kids can conquer the Ninja Nation Obstacle Course (remember to bring those closed-toe shoes!). It’s an adventure-filled day where laughter and joy abound.
URL:https://bigdkettlecorn.com/event/celina-splash-and-blast/
LOCATION:old celina park\, 12670 FM428\, Celina\, TX\, 75009
CATEGORIES:Fourth of July Celebration
ATTACH;FMTTYPE=image/jpeg:https://bigdkettlecorn.com/wp-content/uploads/2022/06/Unknown.jpeg
END:VEVENT
BEGIN:VEVENT
DTSTART;TZID=America/Chicago:20240629T190000
DTEND;TZID=America/Chicago:20240629T220000
DTSTAMP:20260423T213421
CREATED:20240618T151140Z
LAST-MODIFIED:20240618T202733Z
UID:4763-1719687600-1719698400@bigdkettlecorn.com
SUMMARY:Allen USA Celebration 2024
DESCRIPTION:The Market Street Allen USA Celebration offers something for everyone including live music on two stages\, military vehicles on display\, pop-up performances\, antique vehicles and muscle car show\, kid zone\, VIP party zone\, ninja challenge\, football combine challenge\, games\, activities\, and Big D Kettle Corn. The evening culminates with one of the largest firework shows in North Texas.
URL:https://bigdkettlecorn.com/event/allen-usa-celebration-2022/
LOCATION:Celebration Park\, 701 Angel Pkwy\, Allen\, TX\, 75002
CATEGORIES:Fourth of July Celebration
ATTACH;FMTTYPE=image/png:https://bigdkettlecorn.com/wp-content/uploads/2022/06/allen.png
END:VEVENT
END:VCALENDAR