BEGIN:VCALENDAR
VERSION:2.0
PRODID:-//Big D Kettle Corn - ECPv6.15.20//NONSGML v1.0//EN
CALSCALE:GREGORIAN
METHOD:PUBLISH
X-ORIGINAL-URL:https://bigdkettlecorn.com
X-WR-CALDESC:Events for Big D Kettle Corn
REFRESH-INTERVAL;VALUE=DURATION:PT1H
X-Robots-Tag:noindex
X-PUBLISHED-TTL:PT1H
BEGIN:VTIMEZONE
TZID:America/Chicago
BEGIN:DAYLIGHT
TZOFFSETFROM:-0600
TZOFFSETTO:-0500
TZNAME:CDT
DTSTART:20160313T080000
END:DAYLIGHT
BEGIN:STANDARD
TZOFFSETFROM:-0500
TZOFFSETTO:-0600
TZNAME:CST
DTSTART:20161106T070000
END:STANDARD
BEGIN:DAYLIGHT
TZOFFSETFROM:-0600
TZOFFSETTO:-0500
TZNAME:CDT
DTSTART:20170312T080000
END:DAYLIGHT
BEGIN:STANDARD
TZOFFSETFROM:-0500
TZOFFSETTO:-0600
TZNAME:CST
DTSTART:20171105T070000
END:STANDARD
BEGIN:DAYLIGHT
TZOFFSETFROM:-0600
TZOFFSETTO:-0500
TZNAME:CDT
DTSTART:20180311T080000
END:DAYLIGHT
BEGIN:STANDARD
TZOFFSETFROM:-0500
TZOFFSETTO:-0600
TZNAME:CST
DTSTART:20181104T070000
END:STANDARD
END:VTIMEZONE
BEGIN:VEVENT
DTSTART;TZID=America/Chicago:20171209T090000
DTEND;TZID=America/Chicago:20171209T170000
DTSTAMP:20260423T152314
CREATED:20171129T051154Z
LAST-MODIFIED:20171207T173720Z
UID:512-1512810000-1512838800@bigdkettlecorn.com
SUMMARY:Wills Point CHRISTMAS ON THE BRICKS
DESCRIPTION:For more than 20 years\, Wills Point Chamber has produced its annual holiday event – Christmas on the Bricks. Bring the whole family downtown to the Bricks for this celebration of wonder with food vendors\, shopping\, live music and more.
URL:https://bigdkettlecorn.com/event/wills-point-christmas-on-the-bricks/
LOCATION:TX
ATTACH;FMTTYPE=image/jpeg:https://bigdkettlecorn.com/wp-content/uploads/2017/11/2017-BRICKS-BUCKS-PARTICIPATING-BUSINESS-POSTER-232x300.jpg
END:VEVENT
BEGIN:VEVENT
DTSTART;TZID=America/Chicago:20171207T173000
DTEND;TZID=America/Chicago:20171207T213000
DTSTAMP:20260423T152314
CREATED:20171129T043847Z
LAST-MODIFIED:20171129T043847Z
UID:507-1512667800-1512682200@bigdkettlecorn.com
SUMMARY:Christmas On The Square: Garland Texas
DESCRIPTION:Join us at Garland’s historic Downtown Square for the annual tree lighting! There will be craft vendors\, children’s choirs\, holiday food\, train rides\, snow tubing hills\, and even Santa!
URL:https://bigdkettlecorn.com/event/christmas-on-the-square-garland-texas/
LOCATION:Downtown Garland Square\, 200 N. Fifth St.\, Garland\, TX
ATTACH;FMTTYPE=image/jpeg:https://bigdkettlecorn.com/wp-content/uploads/2017/11/Christmas_on_the_Square_17-scaled.jpg
END:VEVENT
BEGIN:VEVENT
DTSTART;TZID=America/Chicago:20171201T180000
DTEND;TZID=America/Chicago:20171201T210000
DTSTAMP:20260423T152314
CREATED:20171129T033908Z
LAST-MODIFIED:20171129T033908Z
UID:501-1512151200-1512162000@bigdkettlecorn.com
SUMMARY:Holly Days: Christmas At Keller Town Center
DESCRIPTION:Come join the holiday spirit at Keller Town Center and help us celebrate  Holly Days!! Enjoy The\nVery Merry Light Parade\, the lighting of the Christmas tree\, Santa’s arrival\, stage entertainment\, a two-lane snow hill\, arts and crafts\, concessions and activities at the Jingle Bell Zone.
URL:https://bigdkettlecorn.com/event/holly-days-christmas-at-keller-town-center/
LOCATION:Keller Town Center\, 1100 Bear Creek Parkway\, Keller\, TX
ATTACH;FMTTYPE=image/jpeg:https://bigdkettlecorn.com/wp-content/uploads/2017/11/ShowImage.jpeg
END:VEVENT
END:VCALENDAR