BEGIN:VCALENDAR
VERSION:2.0
PRODID:-//Big D Kettle Corn - ECPv6.15.20//NONSGML v1.0//EN
CALSCALE:GREGORIAN
METHOD:PUBLISH
X-WR-CALNAME:Big D Kettle Corn
X-ORIGINAL-URL:https://bigdkettlecorn.com
X-WR-CALDESC:Events for Big D Kettle Corn
REFRESH-INTERVAL;VALUE=DURATION:PT1H
X-Robots-Tag:noindex
X-PUBLISHED-TTL:PT1H
BEGIN:VTIMEZONE
TZID:America/Chicago
BEGIN:DAYLIGHT
TZOFFSETFROM:-0600
TZOFFSETTO:-0500
TZNAME:CDT
DTSTART:20160313T080000
END:DAYLIGHT
BEGIN:STANDARD
TZOFFSETFROM:-0500
TZOFFSETTO:-0600
TZNAME:CST
DTSTART:20161106T070000
END:STANDARD
BEGIN:DAYLIGHT
TZOFFSETFROM:-0600
TZOFFSETTO:-0500
TZNAME:CDT
DTSTART:20170312T080000
END:DAYLIGHT
BEGIN:STANDARD
TZOFFSETFROM:-0500
TZOFFSETTO:-0600
TZNAME:CST
DTSTART:20171105T070000
END:STANDARD
BEGIN:DAYLIGHT
TZOFFSETFROM:-0600
TZOFFSETTO:-0500
TZNAME:CDT
DTSTART:20180311T080000
END:DAYLIGHT
BEGIN:STANDARD
TZOFFSETFROM:-0500
TZOFFSETTO:-0600
TZNAME:CST
DTSTART:20181104T070000
END:STANDARD
BEGIN:DAYLIGHT
TZOFFSETFROM:-0600
TZOFFSETTO:-0500
TZNAME:CDT
DTSTART:20190310T080000
END:DAYLIGHT
BEGIN:STANDARD
TZOFFSETFROM:-0500
TZOFFSETTO:-0600
TZNAME:CST
DTSTART:20191103T070000
END:STANDARD
END:VTIMEZONE
BEGIN:VEVENT
DTSTART;TZID=America/Chicago:20180526T080000
DTEND;TZID=America/Chicago:20180527T170000
DTSTAMP:20260423T135159
CREATED:20180319T032231Z
LAST-MODIFIED:20180319T032231Z
UID:665-1527321600-1527440400@bigdkettlecorn.com
SUMMARY:2018 Breckenridge Airshow
DESCRIPTION:The Airshow will be held on Saturday\, May 26th and Sunday\, May 27th\, 2018 at the Stephens County Airport (KBKD) from 9:00 a.m. to 5:00 p.m. each day. Gates will open at 8:00 a.m. Presented by the Breckenridge Chamber of Commerce and Ezell Aviation\, the Airshow provides affordable family entertainment\, and a great place to enjoy some big d kettle corn.
URL:https://bigdkettlecorn.com/event/2018-breckenridge-airshow/
LOCATION:Stephens County Airport\, 361 CR 150\, Breckenridge\, TX\, 76424\, United States
CATEGORIES:Air Show
ATTACH;FMTTYPE=image/png:https://bigdkettlecorn.com/wp-content/uploads/2018/03/airshow-graphic-with-wings-2018-e1521429518717.png
END:VEVENT
BEGIN:VEVENT
DTSTART;TZID=America/Chicago:20180512T073000
DTEND;TZID=America/Chicago:20180512T170000
DTSTAMP:20260423T135159
CREATED:20180423T223745Z
LAST-MODIFIED:20180423T223745Z
UID:692-1526110200-1526144400@bigdkettlecorn.com
SUMMARY:Strut Your Mutt Dallas
DESCRIPTION:Join more than 3\,000 pups and their people for Strut Your Mutt 2018\, the Race to End Animal Cruelty on Saturday\, May 12th. The 5K timed run or 3K fun run/walk starts at the base of the Margaret Hunt-Hill Bridge in West Dallas in the Trinity Groves area. The route goes over the Ronald Kirk Bridge and winds through the Design District before heading back for a fabulous after party complete with mimosas and plenty of Big D Kettle Corn to munch on. Come on out and support a great cause and have some fun.
URL:https://bigdkettlecorn.com/event/strut-your-mutt-dallas/
LOCATION:Base of the Continental Bridge\, 109 Continental Avenue\, Dallas\, Texas\, 75208\, United States
CATEGORIES:Walk/Run 5K
ATTACH;FMTTYPE=image/png:https://bigdkettlecorn.com/wp-content/uploads/2018/04/logo-1040.png
END:VEVENT
BEGIN:VEVENT
DTSTART;TZID=America/Chicago:20180504T160000
DTEND;TZID=America/Chicago:20180506T170000
DTSTAMP:20260423T135159
CREATED:20180404T192314Z
LAST-MODIFIED:20180405T170347Z
UID:674-1525449600-1525626000@bigdkettlecorn.com
SUMMARY:Central Texas Air Show Temple Texas
DESCRIPTION:Clear your calendar now for the largest air show in Central Texas coming to the Temple Airport!  This Three-Day event will keep your eyes to the sky as the aircraft provide non-stop entertainment for spectators of all ages. You won’t want to miss the awesome Friday night show filled with smoke\, pyrotechnics and everyone’s favorite – an astonishing fireworks display! Take the time while you are there to try some of our extraordinary Big D Kettle Corn.
URL:https://bigdkettlecorn.com/event/central-texas-air-show-temple-texas/
LOCATION:Temple Airport\, 7720F Airport Rd.\, Temple\, TX\, 76502\, United States
CATEGORIES:Air Show
ATTACH;FMTTYPE=image/png:https://bigdkettlecorn.com/wp-content/uploads/2018/04/29683705_10155687423708323_1249553150903048977_n.png
END:VEVENT
BEGIN:VEVENT
DTSTART;TZID=America/Chicago:20180414T100000
DTEND;TZID=America/Chicago:20180414T180000
DTSTAMP:20260423T135159
CREATED:20180307T043726Z
LAST-MODIFIED:20180405T151718Z
UID:644-1523700000-1523728800@bigdkettlecorn.com
SUMMARY:Cleburne Spring Fest & Carnival
DESCRIPTION:Come celebrate springtime in Downtown Cleburne with vendors\, food\, entertainment and fantastic Big D Kettle Corn. Carnival and many more activities at Hulen Park. Carnival Americana will be there with great rides.
URL:https://bigdkettlecorn.com/event/cleburne-spring-fest-carnival/
LOCATION:Hulen Park\, 201 W. Westhill Dr. \, TX\, Cleburne\, TX\, 76033\, United States
ATTACH;FMTTYPE=image/jpeg:https://bigdkettlecorn.com/wp-content/uploads/2018/03/Unknown-2.jpeg
END:VEVENT
BEGIN:VEVENT
DTSTART;TZID=America/Chicago:20180407T080000
DTEND;TZID=America/Chicago:20180407T170000
DTSTAMP:20260423T135159
CREATED:20180308T034312Z
LAST-MODIFIED:20180308T040446Z
UID:656-1523088000-1523120400@bigdkettlecorn.com
SUMMARY:Billy the Kid Rides Again Car Show
DESCRIPTION:Every spring\, car enthusiasts join together in Hico\, Texas\, to admire vintage wheels at Billy the Kid Rides Again Open Car Show. The event is sponsored by Billy the Kid Museum and benefits the Texas Scottish Rite Hospital for Children. Food\, beverages and crafts are all available there is something for everyone\, Come enjoy some Big D Kettle Corn and see some cool cars.
URL:https://bigdkettlecorn.com/event/billy-the-kid-rides-again-car-show/
LOCATION:Downtown Hico Texas\, 114 N. Pecan Street\, Hico\, TX\, 76457\, United States
CATEGORIES:Car Show
ATTACH;FMTTYPE=image/jpeg:https://bigdkettlecorn.com/wp-content/uploads/2018/03/d2fdfeb6f759688f0cccfb5602a9b725.jpg
END:VEVENT
BEGIN:VEVENT
DTSTART;TZID=America/Chicago:20180317T130000
DTEND;TZID=America/Chicago:20180317T220000
DTSTAMP:20260423T135159
CREATED:20180218T030407Z
LAST-MODIFIED:20180218T030407Z
UID:605-1521291600-1521324000@bigdkettlecorn.com
SUMMARY:FIFTH ANNUAL BULL RIDING ON THE BEACH GRANBURY
DESCRIPTION:Bull Riding- 1:00 pm \nMutton Bustin – 4:00 pm   Sign ups at Arena 1:30-3:30   55 lbs or less $ 25.00 entry fee. \nEvening Bull Riding – 6:00 pm
URL:https://bigdkettlecorn.com/event/fifth-annual-bull-riding-beach-granbury/
LOCATION:Granbury City Beach\, 623 W Pearl St\, Grandbury\, TX\, 76048\, United States
ATTACH;FMTTYPE=image/jpeg:https://bigdkettlecorn.com/wp-content/uploads/2018/02/IMG_2946.jpg
END:VEVENT
BEGIN:VEVENT
DTSTART;TZID=America/Chicago:20171209T090000
DTEND;TZID=America/Chicago:20171209T170000
DTSTAMP:20260423T135159
CREATED:20171129T051154Z
LAST-MODIFIED:20171207T173720Z
UID:512-1512810000-1512838800@bigdkettlecorn.com
SUMMARY:Wills Point CHRISTMAS ON THE BRICKS
DESCRIPTION:For more than 20 years\, Wills Point Chamber has produced its annual holiday event – Christmas on the Bricks. Bring the whole family downtown to the Bricks for this celebration of wonder with food vendors\, shopping\, live music and more.
URL:https://bigdkettlecorn.com/event/wills-point-christmas-on-the-bricks/
LOCATION:TX
ATTACH;FMTTYPE=image/jpeg:https://bigdkettlecorn.com/wp-content/uploads/2017/11/2017-BRICKS-BUCKS-PARTICIPATING-BUSINESS-POSTER-232x300.jpg
END:VEVENT
BEGIN:VEVENT
DTSTART;TZID=America/Chicago:20171207T173000
DTEND;TZID=America/Chicago:20171207T213000
DTSTAMP:20260423T135159
CREATED:20171129T043847Z
LAST-MODIFIED:20171129T043847Z
UID:507-1512667800-1512682200@bigdkettlecorn.com
SUMMARY:Christmas On The Square: Garland Texas
DESCRIPTION:Join us at Garland’s historic Downtown Square for the annual tree lighting! There will be craft vendors\, children’s choirs\, holiday food\, train rides\, snow tubing hills\, and even Santa!
URL:https://bigdkettlecorn.com/event/christmas-on-the-square-garland-texas/
LOCATION:Downtown Garland Square\, 200 N. Fifth St.\, Garland\, TX
ATTACH;FMTTYPE=image/jpeg:https://bigdkettlecorn.com/wp-content/uploads/2017/11/Christmas_on_the_Square_17-scaled.jpg
END:VEVENT
BEGIN:VEVENT
DTSTART;TZID=America/Chicago:20171201T180000
DTEND;TZID=America/Chicago:20171201T210000
DTSTAMP:20260423T135159
CREATED:20171129T033908Z
LAST-MODIFIED:20171129T033908Z
UID:501-1512151200-1512162000@bigdkettlecorn.com
SUMMARY:Holly Days: Christmas At Keller Town Center
DESCRIPTION:Come join the holiday spirit at Keller Town Center and help us celebrate  Holly Days!! Enjoy The\nVery Merry Light Parade\, the lighting of the Christmas tree\, Santa’s arrival\, stage entertainment\, a two-lane snow hill\, arts and crafts\, concessions and activities at the Jingle Bell Zone.
URL:https://bigdkettlecorn.com/event/holly-days-christmas-at-keller-town-center/
LOCATION:Keller Town Center\, 1100 Bear Creek Parkway\, Keller\, TX
ATTACH;FMTTYPE=image/jpeg:https://bigdkettlecorn.com/wp-content/uploads/2017/11/ShowImage.jpeg
END:VEVENT
END:VCALENDAR