BEGIN:VCALENDAR
VERSION:2.0
PRODID:-//Big D Kettle Corn - ECPv6.15.20//NONSGML v1.0//EN
CALSCALE:GREGORIAN
METHOD:PUBLISH
X-WR-CALNAME:Big D Kettle Corn
X-ORIGINAL-URL:https://bigdkettlecorn.com
X-WR-CALDESC:Events for Big D Kettle Corn
REFRESH-INTERVAL;VALUE=DURATION:PT1H
X-Robots-Tag:noindex
X-PUBLISHED-TTL:PT1H
BEGIN:VTIMEZONE
TZID:America/Chicago
BEGIN:DAYLIGHT
TZOFFSETFROM:-0600
TZOFFSETTO:-0500
TZNAME:CDT
DTSTART:20250309T080000
END:DAYLIGHT
BEGIN:STANDARD
TZOFFSETFROM:-0500
TZOFFSETTO:-0600
TZNAME:CST
DTSTART:20251102T070000
END:STANDARD
BEGIN:DAYLIGHT
TZOFFSETFROM:-0600
TZOFFSETTO:-0500
TZNAME:CDT
DTSTART:20260308T080000
END:DAYLIGHT
BEGIN:STANDARD
TZOFFSETFROM:-0500
TZOFFSETTO:-0600
TZNAME:CST
DTSTART:20261101T070000
END:STANDARD
BEGIN:DAYLIGHT
TZOFFSETFROM:-0600
TZOFFSETTO:-0500
TZNAME:CDT
DTSTART:20270314T080000
END:DAYLIGHT
BEGIN:STANDARD
TZOFFSETFROM:-0500
TZOFFSETTO:-0600
TZNAME:CST
DTSTART:20271107T070000
END:STANDARD
END:VTIMEZONE
BEGIN:VEVENT
DTSTART;TZID=America/Chicago:20260904T170000
DTEND;TZID=America/Chicago:20260906T120000
DTSTAMP:20260422T125948
CREATED:20230825T034907Z
LAST-MODIFIED:20260213T211948Z
UID:5215-1788541200-1788696000@bigdkettlecorn.com
SUMMARY:Westfest West Texas
DESCRIPTION:Westfest is an annual event held every Labor Day Weekend that salutes the area’s Czech heritage. The festival featuring constant live music and entertainment\, authentic food & beverages\, and non stop family-oriented activities. Dont forget the Big D Kettle Corn! \nFriday 530 to 1230 \nSaturday 11 to 1230 \nSunday 11 to 12
URL:https://bigdkettlecorn.com/event/westfest-west-texas/
LOCATION:West Fair and Rodeo Grounds\, 1110 South Main Street\, West\, TX\, 76691
CATEGORIES:Cultural Festival
ATTACH;FMTTYPE=image/jpeg:https://bigdkettlecorn.com/wp-content/uploads/2023/08/westfest.jpg
END:VEVENT
END:VCALENDAR