BEGIN:VCALENDAR
VERSION:2.0
PRODID:-//Big D Kettle Corn - ECPv6.15.20//NONSGML v1.0//EN
CALSCALE:GREGORIAN
METHOD:PUBLISH
X-ORIGINAL-URL:https://bigdkettlecorn.com
X-WR-CALDESC:Events for Big D Kettle Corn
REFRESH-INTERVAL;VALUE=DURATION:PT1H
X-Robots-Tag:noindex
X-PUBLISHED-TTL:PT1H
BEGIN:VTIMEZONE
TZID:America/Chicago
BEGIN:DAYLIGHT
TZOFFSETFROM:-0600
TZOFFSETTO:-0500
TZNAME:CDT
DTSTART:20250309T080000
END:DAYLIGHT
BEGIN:STANDARD
TZOFFSETFROM:-0500
TZOFFSETTO:-0600
TZNAME:CST
DTSTART:20251102T070000
END:STANDARD
BEGIN:DAYLIGHT
TZOFFSETFROM:-0600
TZOFFSETTO:-0500
TZNAME:CDT
DTSTART:20260308T080000
END:DAYLIGHT
BEGIN:STANDARD
TZOFFSETFROM:-0500
TZOFFSETTO:-0600
TZNAME:CST
DTSTART:20261101T070000
END:STANDARD
BEGIN:DAYLIGHT
TZOFFSETFROM:-0600
TZOFFSETTO:-0500
TZNAME:CDT
DTSTART:20270314T080000
END:DAYLIGHT
BEGIN:STANDARD
TZOFFSETFROM:-0500
TZOFFSETTO:-0600
TZNAME:CST
DTSTART:20271107T070000
END:STANDARD
END:VTIMEZONE
BEGIN:VEVENT
DTSTART;TZID=America/Chicago:20260703T180000
DTEND;TZID=America/Chicago:20260703T210000
DTSTAMP:20260422T132449
CREATED:20230703T230039Z
LAST-MODIFIED:20260212T013814Z
UID:1397-1783101600-1783112400@bigdkettlecorn.com
SUMMARY:Sachse Red\, White & Blue Blast 2026
DESCRIPTION:Sachse’s Annual Red\, White & Blue Blast will be Sunday July 3rd\, at Heritage Park (4408 Hudson Dr.\, Sachse\, TX) at 6 PM. There will be live entertainment\, activities\, food\, vendors\, bounce houses\, contests\, and of course\, fireworks. Bring your lawn chairs\, blankets\, and bug spray! and join us for an evening of good\, old-fashioned family fun. While fireworks are great\, we know you are coming for the kettle corn:))
URL:https://bigdkettlecorn.com/event/sachse-red-white-blue-blast/
LOCATION:Heritage Park\, 4408 Hudson Dr\, Sachse\, TX\, 75048\, United States
CATEGORIES:Fourth of July Celebration
ATTACH;FMTTYPE=image/jpeg:https://bigdkettlecorn.com/wp-content/uploads/2019/04/Unknown.jpeg
END:VEVENT
END:VCALENDAR