BEGIN:VCALENDAR
VERSION:2.0
PRODID:-//Big D Kettle Corn - ECPv6.15.20//NONSGML v1.0//EN
CALSCALE:GREGORIAN
METHOD:PUBLISH
X-WR-CALNAME:Big D Kettle Corn
X-ORIGINAL-URL:https://bigdkettlecorn.com
X-WR-CALDESC:Events for Big D Kettle Corn
REFRESH-INTERVAL;VALUE=DURATION:PT1H
X-Robots-Tag:noindex
X-PUBLISHED-TTL:PT1H
BEGIN:VTIMEZONE
TZID:America/Chicago
BEGIN:DAYLIGHT
TZOFFSETFROM:-0600
TZOFFSETTO:-0500
TZNAME:CDT
DTSTART:20250309T080000
END:DAYLIGHT
BEGIN:STANDARD
TZOFFSETFROM:-0500
TZOFFSETTO:-0600
TZNAME:CST
DTSTART:20251102T070000
END:STANDARD
BEGIN:DAYLIGHT
TZOFFSETFROM:-0600
TZOFFSETTO:-0500
TZNAME:CDT
DTSTART:20260308T080000
END:DAYLIGHT
BEGIN:STANDARD
TZOFFSETFROM:-0500
TZOFFSETTO:-0600
TZNAME:CST
DTSTART:20261101T070000
END:STANDARD
BEGIN:DAYLIGHT
TZOFFSETFROM:-0600
TZOFFSETTO:-0500
TZNAME:CDT
DTSTART:20270314T080000
END:DAYLIGHT
BEGIN:STANDARD
TZOFFSETFROM:-0500
TZOFFSETTO:-0600
TZNAME:CST
DTSTART:20271107T070000
END:STANDARD
END:VTIMEZONE
BEGIN:VEVENT
DTSTART;TZID=America/Chicago:20260612T080000
DTEND;TZID=America/Chicago:20260614T170000
DTSTAMP:20260422T132319
CREATED:20240126T194242Z
LAST-MODIFIED:20260415T191308Z
UID:5323-1781251200-1781456400@bigdkettlecorn.com
SUMMARY:Great Texas Balloon Race Longview Texas
DESCRIPTION:U.S. National Hot Air Balloon Championship + Great Texas Balloon Race\nLongview will again welcome the U.S. National Hot Air Balloon Championship June 10-16\, 2024\, with the Great Texas Balloon Race competition run in conjunction with it June 12-14\, 2026.  Come see us there for our Farm Fresh Kettle Corn.
URL:https://bigdkettlecorn.com/event/great-texas-balloon-race-longview-texas/
LOCATION:Maude Cobb Convention Center\, 100 Grand Blvd\, Longview\, TX\, 75604
CATEGORIES:Balloon Festival
ATTACH;FMTTYPE=image/png:https://bigdkettlecorn.com/wp-content/uploads/2024/01/gtbr_logo-1.png
END:VEVENT
END:VCALENDAR