BEGIN:VCALENDAR
VERSION:2.0
PRODID:-//Big D Kettle Corn - ECPv6.15.20//NONSGML v1.0//EN
CALSCALE:GREGORIAN
METHOD:PUBLISH
X-WR-CALNAME:Big D Kettle Corn
X-ORIGINAL-URL:https://bigdkettlecorn.com
X-WR-CALDESC:Events for Big D Kettle Corn
REFRESH-INTERVAL;VALUE=DURATION:PT1H
X-Robots-Tag:noindex
X-PUBLISHED-TTL:PT1H
BEGIN:VTIMEZONE
TZID:America/Chicago
BEGIN:DAYLIGHT
TZOFFSETFROM:-0600
TZOFFSETTO:-0500
TZNAME:CDT
DTSTART:20250309T080000
END:DAYLIGHT
BEGIN:STANDARD
TZOFFSETFROM:-0500
TZOFFSETTO:-0600
TZNAME:CST
DTSTART:20251102T070000
END:STANDARD
BEGIN:DAYLIGHT
TZOFFSETFROM:-0600
TZOFFSETTO:-0500
TZNAME:CDT
DTSTART:20260308T080000
END:DAYLIGHT
BEGIN:STANDARD
TZOFFSETFROM:-0500
TZOFFSETTO:-0600
TZNAME:CST
DTSTART:20261101T070000
END:STANDARD
BEGIN:DAYLIGHT
TZOFFSETFROM:-0600
TZOFFSETTO:-0500
TZNAME:CDT
DTSTART:20270314T080000
END:DAYLIGHT
BEGIN:STANDARD
TZOFFSETFROM:-0500
TZOFFSETTO:-0600
TZNAME:CST
DTSTART:20271107T070000
END:STANDARD
END:VTIMEZONE
BEGIN:VEVENT
DTSTART;TZID=America/Chicago:20260606T160000
DTEND;TZID=America/Chicago:20260606T220000
DTSTAMP:20260422T104412
CREATED:20260401T194158Z
LAST-MODIFIED:20260401T194158Z
UID:6434-1780761600-1780783200@bigdkettlecorn.com
SUMMARY:Little Elm Brew & Que
DESCRIPTION:Join the Little Elm Brew & Que Festival on June 6\, featuring Big D Kettle Corn\, Texas BBQ\, craft beer tastings\, country music\, pitmasters\, fireworks\, and lakefront fun.
URL:https://bigdkettlecorn.com/event/little-elm-brew-que/
LOCATION:Little Elm Park\, 701 El Dorado Parkway\, Little ELm\, TX\, 75608
CATEGORIES:Craft Beer Festival
ATTACH;FMTTYPE=image/webp:https://bigdkettlecorn.com/wp-content/uploads/2026/04/Facebook-Event-1-700x700.png.webp
END:VEVENT
END:VCALENDAR