BEGIN:VCALENDAR
VERSION:2.0
PRODID:-//Big D Kettle Corn - ECPv6.15.20//NONSGML v1.0//EN
CALSCALE:GREGORIAN
METHOD:PUBLISH
X-ORIGINAL-URL:https://bigdkettlecorn.com
X-WR-CALDESC:Events for Big D Kettle Corn
REFRESH-INTERVAL;VALUE=DURATION:PT1H
X-Robots-Tag:noindex
X-PUBLISHED-TTL:PT1H
BEGIN:VTIMEZONE
TZID:America/Chicago
BEGIN:DAYLIGHT
TZOFFSETFROM:-0600
TZOFFSETTO:-0500
TZNAME:CDT
DTSTART:20250309T080000
END:DAYLIGHT
BEGIN:STANDARD
TZOFFSETFROM:-0500
TZOFFSETTO:-0600
TZNAME:CST
DTSTART:20251102T070000
END:STANDARD
BEGIN:DAYLIGHT
TZOFFSETFROM:-0600
TZOFFSETTO:-0500
TZNAME:CDT
DTSTART:20260308T080000
END:DAYLIGHT
BEGIN:STANDARD
TZOFFSETFROM:-0500
TZOFFSETTO:-0600
TZNAME:CST
DTSTART:20261101T070000
END:STANDARD
BEGIN:DAYLIGHT
TZOFFSETFROM:-0600
TZOFFSETTO:-0500
TZNAME:CDT
DTSTART:20270314T080000
END:DAYLIGHT
BEGIN:STANDARD
TZOFFSETFROM:-0500
TZOFFSETTO:-0600
TZNAME:CST
DTSTART:20271107T070000
END:STANDARD
END:VTIMEZONE
BEGIN:VEVENT
DTSTART;TZID=America/Chicago:20260508T203000
DTEND;TZID=America/Chicago:20260509T233000
DTSTAMP:20260422T103904
CREATED:20260401T193408Z
LAST-MODIFIED:20260401T193408Z
UID:6430-1778272200-1778369400@bigdkettlecorn.com
SUMMARY:Nocturne's After-Dark Art Trail Frisco
DESCRIPTION:Nocturne\, returns May 8-9\, 2026\, for two unforgettable evenings of immersive art discovery\, where light and sound reimagine the night. This unique after-dark experience⁠ will transform Frisco Commons Park’s familiar trails into dreamlike encounters with art\, nature\, and the unseen. \nFor the first time in its history\, the park will turn into a mile-long outdoor gallery\, with light\, video\, and sound installations emerging along its winding trails. Conceived as an after-dark art trail through nature\, the experience is created by leading regional artists. Each piece invites reflection\, play\, and a heightened awareness of the world after dusk. Dont forget to take a bag of Big D Kettle  Corn on your walk
URL:https://bigdkettlecorn.com/event/nocturnes-after-dark-art-trail-frisco/
LOCATION:Frisco Commons Park\, 8000 McKinney Rd\, Frisco\, TX\, 75034
CATEGORIES:Music and Art Festivals
ATTACH;FMTTYPE=image/jpeg:https://bigdkettlecorn.com/wp-content/uploads/2026/04/Document-scaled.jpeg
END:VEVENT
END:VCALENDAR