BEGIN:VCALENDAR
VERSION:2.0
PRODID:-//Big D Kettle Corn - ECPv6.15.20//NONSGML v1.0//EN
CALSCALE:GREGORIAN
METHOD:PUBLISH
X-WR-CALNAME:Big D Kettle Corn
X-ORIGINAL-URL:https://bigdkettlecorn.com
X-WR-CALDESC:Events for Big D Kettle Corn
REFRESH-INTERVAL;VALUE=DURATION:PT1H
X-Robots-Tag:noindex
X-PUBLISHED-TTL:PT1H
BEGIN:VTIMEZONE
TZID:America/Chicago
BEGIN:DAYLIGHT
TZOFFSETFROM:-0600
TZOFFSETTO:-0500
TZNAME:CDT
DTSTART:20250309T080000
END:DAYLIGHT
BEGIN:STANDARD
TZOFFSETFROM:-0500
TZOFFSETTO:-0600
TZNAME:CST
DTSTART:20251102T070000
END:STANDARD
BEGIN:DAYLIGHT
TZOFFSETFROM:-0600
TZOFFSETTO:-0500
TZNAME:CDT
DTSTART:20260308T080000
END:DAYLIGHT
BEGIN:STANDARD
TZOFFSETFROM:-0500
TZOFFSETTO:-0600
TZNAME:CST
DTSTART:20261101T070000
END:STANDARD
BEGIN:DAYLIGHT
TZOFFSETFROM:-0600
TZOFFSETTO:-0500
TZNAME:CDT
DTSTART:20270314T080000
END:DAYLIGHT
BEGIN:STANDARD
TZOFFSETFROM:-0500
TZOFFSETTO:-0600
TZNAME:CST
DTSTART:20271107T070000
END:STANDARD
END:VTIMEZONE
BEGIN:VEVENT
DTSTART;TZID=America/Chicago:20260502T100000
DTEND;TZID=America/Chicago:20260504T170000
DTSTAMP:20260422T103752
CREATED:20191022T171736Z
LAST-MODIFIED:20260212T005459Z
UID:1522-1777716000-1777914000@bigdkettlecorn.com
SUMMARY:Cottonwood Art Festival Spring 2026
DESCRIPTION:From its humble beginnings in 1969\, the Cottonwood Art Festival has developed into one of the most prestigious fine art festivals in the United States.Local artists staged their first Festival at the scenic Cottonwood Park in Richardson\, Texas. It was all tie-dye\, bell-bottoms and braids back then where the artists laid down blankets and set up easels with the hopes of selling s few pieces of art. Since that first weekend nearly five decades later\, Cottonwood has established itself as signature art event\, become a tradition in the community and the home to the finest artists in the country for the first weekend of may. What goes better with art than some Big D Kettle Corn? We look forward to seeing you there.
URL:https://bigdkettlecorn.com/event/1522/
LOCATION:Cottonwood Park\, 1321 W. Beltline Rd.\, Richardson\, TX\, 75080\, United States
CATEGORIES:Art Show
ATTACH;FMTTYPE=image/jpeg:https://bigdkettlecorn.com/wp-content/uploads/2019/10/249129012_4488692377833679_3102010032747818318_n.jpg
END:VEVENT
END:VCALENDAR