BEGIN:VCALENDAR
VERSION:2.0
PRODID:-//Big D Kettle Corn - ECPv6.15.20//NONSGML v1.0//EN
CALSCALE:GREGORIAN
METHOD:PUBLISH
X-ORIGINAL-URL:https://bigdkettlecorn.com
X-WR-CALDESC:Events for Big D Kettle Corn
REFRESH-INTERVAL;VALUE=DURATION:PT1H
X-Robots-Tag:noindex
X-PUBLISHED-TTL:PT1H
BEGIN:VTIMEZONE
TZID:America/Chicago
BEGIN:DAYLIGHT
TZOFFSETFROM:-0600
TZOFFSETTO:-0500
TZNAME:CDT
DTSTART:20250309T080000
END:DAYLIGHT
BEGIN:STANDARD
TZOFFSETFROM:-0500
TZOFFSETTO:-0600
TZNAME:CST
DTSTART:20251102T070000
END:STANDARD
BEGIN:DAYLIGHT
TZOFFSETFROM:-0600
TZOFFSETTO:-0500
TZNAME:CDT
DTSTART:20260308T080000
END:DAYLIGHT
BEGIN:STANDARD
TZOFFSETFROM:-0500
TZOFFSETTO:-0600
TZNAME:CST
DTSTART:20261101T070000
END:STANDARD
BEGIN:DAYLIGHT
TZOFFSETFROM:-0600
TZOFFSETTO:-0500
TZNAME:CDT
DTSTART:20270314T080000
END:DAYLIGHT
BEGIN:STANDARD
TZOFFSETFROM:-0500
TZOFFSETTO:-0600
TZNAME:CST
DTSTART:20271107T070000
END:STANDARD
END:VTIMEZONE
BEGIN:VEVENT
DTSTART;TZID=America/Chicago:20260404T190000
DTEND;TZID=America/Chicago:20260404T220000
DTSTAMP:20260422T090703
CREATED:20240207T032749Z
LAST-MODIFIED:20260303T181941Z
UID:5343-1775329200-1775340000@bigdkettlecorn.com
SUMMARY:Music Made Here Garland SPECIAL SATURDAY CONCERT The Marshall Tucker Band
DESCRIPTION:Enjoy an evening out in Downtown Garland with FREE live music\, delicious food\, and Big D Kettle Corn. Festivities begin at 7 p.m. \n\nThe Marshall Tucker Band is a legendary Southern rock group formed in Spartanburg\, South Carolina in 1972\, known for blending rock\, country\, jazz\, and blues into a timeless sound. With a catalog of multi-platinum albums and iconic songs like “Can’t You See” and “Heard It in a Love Song\,” the band has influenced generations of musicians and fans. \nFronted by founding member Doug Gray\, The Marshall Tucker Band continues to tour worldwide\, delivering powerful live performances rooted in authenticity and soul.
URL:https://bigdkettlecorn.com/event/music-made-here-garland/
LOCATION:Downtown Garland Square\, 200 N. Fifth St.\, Garland\, TX
CATEGORIES:Music and Art Festivals
ATTACH;FMTTYPE=image/jpeg:https://bigdkettlecorn.com/wp-content/uploads/2024/02/MMH2026_April4_Tucker-Band_1920x1005.jpg
END:VEVENT
END:VCALENDAR