BEGIN:VCALENDAR
VERSION:2.0
PRODID:-//Big D Kettle Corn - ECPv6.15.20//NONSGML v1.0//EN
CALSCALE:GREGORIAN
METHOD:PUBLISH
X-ORIGINAL-URL:https://bigdkettlecorn.com
X-WR-CALDESC:Events for Big D Kettle Corn
REFRESH-INTERVAL;VALUE=DURATION:PT1H
X-Robots-Tag:noindex
X-PUBLISHED-TTL:PT1H
BEGIN:VTIMEZONE
TZID:America/Chicago
BEGIN:DAYLIGHT
TZOFFSETFROM:-0600
TZOFFSETTO:-0500
TZNAME:CDT
DTSTART:20240310T080000
END:DAYLIGHT
BEGIN:STANDARD
TZOFFSETFROM:-0500
TZOFFSETTO:-0600
TZNAME:CST
DTSTART:20241103T070000
END:STANDARD
BEGIN:DAYLIGHT
TZOFFSETFROM:-0600
TZOFFSETTO:-0500
TZNAME:CDT
DTSTART:20250309T080000
END:DAYLIGHT
BEGIN:STANDARD
TZOFFSETFROM:-0500
TZOFFSETTO:-0600
TZNAME:CST
DTSTART:20251102T070000
END:STANDARD
BEGIN:DAYLIGHT
TZOFFSETFROM:-0600
TZOFFSETTO:-0500
TZNAME:CDT
DTSTART:20260308T080000
END:DAYLIGHT
BEGIN:STANDARD
TZOFFSETFROM:-0500
TZOFFSETTO:-0600
TZNAME:CST
DTSTART:20261101T070000
END:STANDARD
END:VTIMEZONE
BEGIN:VEVENT
DTSTART;TZID=America/Chicago:20251121T163000
DTEND;TZID=America/Chicago:20251228T233000
DTSTAMP:20260422T170715
CREATED:20250904T201619Z
LAST-MODIFIED:20250904T201619Z
UID:5643-1763742600-1766964600@bigdkettlecorn.com
SUMMARY:Enchant Christmas Dallas
DESCRIPTION:Classic Christmas is coming back with more sparkle\, new experiences\, and even more ways to create lasting memories! As you embark on your adventure\, glide along an ice skating trail surrounded by dazzling lights\, savor seasonal food and drinks\, and maybe even meet Santa. A world of Christmas wonder with Big D Kettle Corn awaits!
URL:https://bigdkettlecorn.com/event/enchant-christmas-dallas/
LOCATION:Valley View Mall\, 635 & Preston\, Dallas\, TX
CATEGORIES:Christmas Event
ATTACH;FMTTYPE=image/jpeg:https://bigdkettlecorn.com/wp-content/uploads/2025/09/Unknown-4.jpeg
END:VEVENT
END:VCALENDAR