BEGIN:VCALENDAR
VERSION:2.0
PRODID:-//Big D Kettle Corn - ECPv6.15.20//NONSGML v1.0//EN
CALSCALE:GREGORIAN
METHOD:PUBLISH
X-ORIGINAL-URL:https://bigdkettlecorn.com
X-WR-CALDESC:Events for Big D Kettle Corn
REFRESH-INTERVAL;VALUE=DURATION:PT1H
X-Robots-Tag:noindex
X-PUBLISHED-TTL:PT1H
BEGIN:VTIMEZONE
TZID:America/Chicago
BEGIN:DAYLIGHT
TZOFFSETFROM:-0600
TZOFFSETTO:-0500
TZNAME:CDT
DTSTART:20240310T080000
END:DAYLIGHT
BEGIN:STANDARD
TZOFFSETFROM:-0500
TZOFFSETTO:-0600
TZNAME:CST
DTSTART:20241103T070000
END:STANDARD
BEGIN:DAYLIGHT
TZOFFSETFROM:-0600
TZOFFSETTO:-0500
TZNAME:CDT
DTSTART:20250309T080000
END:DAYLIGHT
BEGIN:STANDARD
TZOFFSETFROM:-0500
TZOFFSETTO:-0600
TZNAME:CST
DTSTART:20251102T070000
END:STANDARD
BEGIN:DAYLIGHT
TZOFFSETFROM:-0600
TZOFFSETTO:-0500
TZNAME:CDT
DTSTART:20260308T080000
END:DAYLIGHT
BEGIN:STANDARD
TZOFFSETFROM:-0500
TZOFFSETTO:-0600
TZNAME:CST
DTSTART:20261101T070000
END:STANDARD
END:VTIMEZONE
BEGIN:VEVENT
DTSTART;TZID=America/Chicago:20251024T170000
DTEND;TZID=America/Chicago:20251026T200000
DTSTAMP:20260422T173011
CREATED:20240327T193953Z
LAST-MODIFIED:20250805T233343Z
UID:5377-1761325200-1761508800@bigdkettlecorn.com
SUMMARY:Main Street Fest Grand Prairie
DESCRIPTION:Join us as we celebrate Grand Prairie’s fun\, festive\, family-friendly spirit. The three-day celebration provides complimentary parking and admission\, featuring a diverse lineup of live music designed to appeal to audiences of all tastes and backgrounds. This year’s lineup features a variety of talented artists\, including singer-songwriters\, award-winning supergroups\, and regional bands\, all coming together to create a memorable and inclusive experience for the community. \nThroughout the event\, visitors can also enjoy carnival rides\, arts & crafts vendors\, business expo vendors\, three entertainment stages\, plenty of food and beer gardens\, a KIDZONE and plenty of fun for all. The best part is you can enjoy all this with a big bag of Big D Kettle Corn.
URL:https://bigdkettlecorn.com/event/main-street-fest-grand-prairie/
LOCATION:Grand Prarie Down Town\, 300 W. Main St\, Grand Prairie\, TX\, 75050\, United States
CATEGORIES:Spring Festival
ATTACH;FMTTYPE=image/jpeg:https://bigdkettlecorn.com/wp-content/uploads/2024/03/main-street-fest-logo.jpg
END:VEVENT
END:VCALENDAR