BEGIN:VCALENDAR
VERSION:2.0
PRODID:-//Big D Kettle Corn - ECPv6.15.20//NONSGML v1.0//EN
CALSCALE:GREGORIAN
METHOD:PUBLISH
X-ORIGINAL-URL:https://bigdkettlecorn.com
X-WR-CALDESC:Events for Big D Kettle Corn
REFRESH-INTERVAL;VALUE=DURATION:PT1H
X-Robots-Tag:noindex
X-PUBLISHED-TTL:PT1H
BEGIN:VTIMEZONE
TZID:America/Chicago
BEGIN:DAYLIGHT
TZOFFSETFROM:-0600
TZOFFSETTO:-0500
TZNAME:CDT
DTSTART:20240310T080000
END:DAYLIGHT
BEGIN:STANDARD
TZOFFSETFROM:-0500
TZOFFSETTO:-0600
TZNAME:CST
DTSTART:20241103T070000
END:STANDARD
BEGIN:DAYLIGHT
TZOFFSETFROM:-0600
TZOFFSETTO:-0500
TZNAME:CDT
DTSTART:20250309T080000
END:DAYLIGHT
BEGIN:STANDARD
TZOFFSETFROM:-0500
TZOFFSETTO:-0600
TZNAME:CST
DTSTART:20251102T070000
END:STANDARD
BEGIN:DAYLIGHT
TZOFFSETFROM:-0600
TZOFFSETTO:-0500
TZNAME:CDT
DTSTART:20260308T080000
END:DAYLIGHT
BEGIN:STANDARD
TZOFFSETFROM:-0500
TZOFFSETTO:-0600
TZNAME:CST
DTSTART:20261101T070000
END:STANDARD
END:VTIMEZONE
BEGIN:VEVENT
DTSTART;TZID=America/Chicago:20251018T100000
DTEND;TZID=America/Chicago:20251019T180000
DTSTAMP:20260422T190807
CREATED:20190912T232012Z
LAST-MODIFIED:20250805T231341Z
UID:1465-1760781600-1760896800@bigdkettlecorn.com
SUMMARY:Huffhines Harvest Fest 2025
DESCRIPTION:Join a fall-tastic weekend at Huffhines Harvest Fest featuring Pawtoberfest. Formerly known as Huffhines Art Trails\, this event is a two-day festival held outdoors in Richardson\, Texas\, just minutes north of Dallas. \nCelebrating its 50th anniversary\, the show has grown since the beginning to become one of the best arts and crafts shows in North Texas and has become a tradition for many! On Saturday the festival will feature Pawtoberfest\, a unique opportunity for attendees and furry friends to enjoy the festival together with pet friendly activities. . It has a strong reputation locally and the demographics of the area provide support year after year. \nShopping is not the only thing the trails have to offer! There is also Big D Kettle Corn Live performances from local talent adds to the already festive environment on the Front Porch and Backyard stages\, as well as concessionaires offering your favorite treats. New this year\, Huffhines will feature a variety of Family activities including pumpkin decorating\, corn maze\, scarecrow village\, petting zoo and much more. The park also provides the perfect fall backdrop for fun photos! \nThis popular and successful event is rain or shine.
URL:https://bigdkettlecorn.com/event/huffhines-art-trails/
LOCATION:Huffhines Park\, 300 N Plano Rd\, Richardson\, TX\, 75081\, United States
CATEGORIES:Fall Festival
ATTACH;FMTTYPE=image/png:https://bigdkettlecorn.com/wp-content/uploads/2019/09/Huffhines2022.png
END:VEVENT
END:VCALENDAR