BEGIN:VCALENDAR
VERSION:2.0
PRODID:-//Big D Kettle Corn - ECPv6.15.20//NONSGML v1.0//EN
CALSCALE:GREGORIAN
METHOD:PUBLISH
X-ORIGINAL-URL:https://bigdkettlecorn.com
X-WR-CALDESC:Events for Big D Kettle Corn
REFRESH-INTERVAL;VALUE=DURATION:PT1H
X-Robots-Tag:noindex
X-PUBLISHED-TTL:PT1H
BEGIN:VTIMEZONE
TZID:America/Chicago
BEGIN:DAYLIGHT
TZOFFSETFROM:-0600
TZOFFSETTO:-0500
TZNAME:CDT
DTSTART:20240310T080000
END:DAYLIGHT
BEGIN:STANDARD
TZOFFSETFROM:-0500
TZOFFSETTO:-0600
TZNAME:CST
DTSTART:20241103T070000
END:STANDARD
BEGIN:DAYLIGHT
TZOFFSETFROM:-0600
TZOFFSETTO:-0500
TZNAME:CDT
DTSTART:20250309T080000
END:DAYLIGHT
BEGIN:STANDARD
TZOFFSETFROM:-0500
TZOFFSETTO:-0600
TZNAME:CST
DTSTART:20251102T070000
END:STANDARD
BEGIN:DAYLIGHT
TZOFFSETFROM:-0600
TZOFFSETTO:-0500
TZNAME:CDT
DTSTART:20260308T080000
END:DAYLIGHT
BEGIN:STANDARD
TZOFFSETFROM:-0500
TZOFFSETTO:-0600
TZNAME:CST
DTSTART:20261101T070000
END:STANDARD
END:VTIMEZONE
BEGIN:VEVENT
DTSTART;TZID=America/Chicago:20251003T150000
DTEND;TZID=America/Chicago:20251005T230000
DTSTAMP:20260422T190726
CREATED:20180305T234527Z
LAST-MODIFIED:20250805T230929Z
UID:639-1759503600-1759705200@bigdkettlecorn.com
SUMMARY:Denton Arts and Jazz Festival 2025
DESCRIPTION:The Denton Arts and Jazz Festival has earned a solid reputation for providing the finest in entertainment and art in the North Texas Metroplex area. Founded on the belief that all forms of art should be made available to the general public FREE OF CHARGE\, the event has grown into one of the largest tourist attractions in North Texas and remains Denton’s signature event.A tradition for hundreds of thousands of visitors each year\, please join us for a bag of Big D Kettle Corn\, and enjoy this awesome festival.
URL:https://bigdkettlecorn.com/event/denton-arts-jazz-festival/
LOCATION:Denton’s Quakertown Park\, 321 East McKinney\, Denton\, TX\, 76201\, United States
CATEGORIES:Music and Art Festivals
ATTACH;FMTTYPE=image/png:https://bigdkettlecorn.com/wp-content/uploads/2018/03/1arts-1.png
END:VEVENT
BEGIN:VEVENT
DTSTART;TZID=America/Chicago:20251004T100000
DTEND;TZID=America/Chicago:20251005T170000
DTSTAMP:20260422T190726
CREATED:20190912T230944Z
LAST-MODIFIED:20250109T192339Z
UID:1460-1759572000-1759683600@bigdkettlecorn.com
SUMMARY:Cottonwood Art Festival Fall 2025
DESCRIPTION:From its humble beginnings in 1969\, the Cottonwood Art Festival has developed into one of the most prestigious fine art festivals in the United States.Local artists staged their first Festival at the scenic Cottonwood Park in Richardson\, Texas. It was all tie-dye\, bell-bottoms and braids back then where the artists laid down blankets and set up easels with the hopes of selling s few pieces of art. Since that first weekend nearly five decades later\, Cottonwood has established itself as signature art event\, become a tradition in the community and the home to the finest artists in the country for the first weekend of October. Also the best place to get some Big D Kettle Corn.
URL:https://bigdkettlecorn.com/event/cottonwood-art-festival/
LOCATION:Cottonwood Park\, 1321 W. Beltline Rd.\, Richardson\, TX\, 75080\, United States
CATEGORIES:Art Show
ATTACH;FMTTYPE=image/jpeg:https://bigdkettlecorn.com/wp-content/uploads/2019/09/Unknown.jpeg
END:VEVENT
END:VCALENDAR