BEGIN:VCALENDAR
VERSION:2.0
PRODID:-//Big D Kettle Corn - ECPv6.15.20//NONSGML v1.0//EN
CALSCALE:GREGORIAN
METHOD:PUBLISH
X-WR-CALNAME:Big D Kettle Corn
X-ORIGINAL-URL:https://bigdkettlecorn.com
X-WR-CALDESC:Events for Big D Kettle Corn
REFRESH-INTERVAL;VALUE=DURATION:PT1H
X-Robots-Tag:noindex
X-PUBLISHED-TTL:PT1H
BEGIN:VTIMEZONE
TZID:America/Chicago
BEGIN:DAYLIGHT
TZOFFSETFROM:-0600
TZOFFSETTO:-0500
TZNAME:CDT
DTSTART:20230312T080000
END:DAYLIGHT
BEGIN:STANDARD
TZOFFSETFROM:-0500
TZOFFSETTO:-0600
TZNAME:CST
DTSTART:20231105T070000
END:STANDARD
BEGIN:DAYLIGHT
TZOFFSETFROM:-0600
TZOFFSETTO:-0500
TZNAME:CDT
DTSTART:20240310T080000
END:DAYLIGHT
BEGIN:STANDARD
TZOFFSETFROM:-0500
TZOFFSETTO:-0600
TZNAME:CST
DTSTART:20241103T070000
END:STANDARD
BEGIN:DAYLIGHT
TZOFFSETFROM:-0600
TZOFFSETTO:-0500
TZNAME:CDT
DTSTART:20250309T080000
END:DAYLIGHT
BEGIN:STANDARD
TZOFFSETFROM:-0500
TZOFFSETTO:-0600
TZNAME:CST
DTSTART:20251102T070000
END:STANDARD
END:VTIMEZONE
BEGIN:VEVENT
DTSTART;TZID=America/Chicago:20241212T170000
DTEND;TZID=America/Chicago:20241215T210000
DTSTAMP:20260423T142634
CREATED:20231213T222557Z
LAST-MODIFIED:20241030T002026Z
UID:5294-1734022800-1734296400@bigdkettlecorn.com
SUMMARY:Richardson Santa's Village at Huffhines Park
DESCRIPTION:We hope you join us in the month of December as we celebrate the holiday season with Santa’s Village at Huffhines Park! The FREE holiday event will include FREE Parking\, FREE photos with Santa\, musical performances and interactive activities within each village dwelling. Dont forget a bag of Big D Kettle Corn and a Hot Chocolate !
URL:https://bigdkettlecorn.com/event/richardson-santas-village-at-huffhines-park-2/
LOCATION:Huffhines Park\, 300 N Plano Rd\, Richardson\, TX\, 75081\, United States
CATEGORIES:Christmas Event
ATTACH;FMTTYPE=image/jpeg:https://bigdkettlecorn.com/wp-content/uploads/2023/12/santas-village.jpeg
END:VEVENT
END:VCALENDAR