BEGIN:VCALENDAR
VERSION:2.0
PRODID:-//Big D Kettle Corn - ECPv6.15.20//NONSGML v1.0//EN
CALSCALE:GREGORIAN
METHOD:PUBLISH
X-WR-CALNAME:Big D Kettle Corn
X-ORIGINAL-URL:https://bigdkettlecorn.com
X-WR-CALDESC:Events for Big D Kettle Corn
REFRESH-INTERVAL;VALUE=DURATION:PT1H
X-Robots-Tag:noindex
X-PUBLISHED-TTL:PT1H
BEGIN:VTIMEZONE
TZID:America/Chicago
BEGIN:DAYLIGHT
TZOFFSETFROM:-0600
TZOFFSETTO:-0500
TZNAME:CDT
DTSTART:20230312T080000
END:DAYLIGHT
BEGIN:STANDARD
TZOFFSETFROM:-0500
TZOFFSETTO:-0600
TZNAME:CST
DTSTART:20231105T070000
END:STANDARD
BEGIN:DAYLIGHT
TZOFFSETFROM:-0600
TZOFFSETTO:-0500
TZNAME:CDT
DTSTART:20240310T080000
END:DAYLIGHT
BEGIN:STANDARD
TZOFFSETFROM:-0500
TZOFFSETTO:-0600
TZNAME:CST
DTSTART:20241103T070000
END:STANDARD
BEGIN:DAYLIGHT
TZOFFSETFROM:-0600
TZOFFSETTO:-0500
TZNAME:CDT
DTSTART:20250309T080000
END:DAYLIGHT
BEGIN:STANDARD
TZOFFSETFROM:-0500
TZOFFSETTO:-0600
TZNAME:CST
DTSTART:20251102T070000
END:STANDARD
END:VTIMEZONE
BEGIN:VEVENT
DTSTART;TZID=America/Chicago:20241204T170000
DTEND;TZID=America/Chicago:20241204T210000
DTSTAMP:20260423T142638
CREATED:20221011T232132Z
LAST-MODIFIED:20240911T195014Z
UID:4834-1733331600-1733346000@bigdkettlecorn.com
SUMMARY:Celina Christmas on the Square
DESCRIPTION:Experience the magic of the holiday season at the Christmas on the Square event in Celina\, Texas! Held in the heart of Downtown Celina\, this festive celebration on December 2nd transforms the square into a winter wonderland. Enjoy a variety of holiday activities\, including a Christmas parade\, tree lighting ceremony\, and visits with Santa Claus. Delight in live music\, carolers\, and performances that spread holiday cheer. Browse local vendors for unique gifts and savor seasonal treats from food stalls. Bring your family and friends to celebrate the most wonderful time of the year at Christmas on the Square!  Experience the wonder the season brings by partaking in this signature holiday festival with neighbors\, friends\, and family and Big D Kettle Corn
URL:https://bigdkettlecorn.com/event/celina-christmas-on-the-square/
LOCATION:Celina Town Square\, 142 N. Ohio Street\, Celina\, TX
CATEGORIES:Christmas Event
ATTACH;FMTTYPE=image/jpeg:https://bigdkettlecorn.com/wp-content/uploads/2022/10/Celinachristmas.jpg
END:VEVENT
END:VCALENDAR