BEGIN:VCALENDAR
VERSION:2.0
PRODID:-//Big D Kettle Corn - ECPv6.15.20//NONSGML v1.0//EN
CALSCALE:GREGORIAN
METHOD:PUBLISH
X-ORIGINAL-URL:https://bigdkettlecorn.com
X-WR-CALDESC:Events for Big D Kettle Corn
REFRESH-INTERVAL;VALUE=DURATION:PT1H
X-Robots-Tag:noindex
X-PUBLISHED-TTL:PT1H
BEGIN:VTIMEZONE
TZID:America/Chicago
BEGIN:DAYLIGHT
TZOFFSETFROM:-0600
TZOFFSETTO:-0500
TZNAME:CDT
DTSTART:20230312T080000
END:DAYLIGHT
BEGIN:STANDARD
TZOFFSETFROM:-0500
TZOFFSETTO:-0600
TZNAME:CST
DTSTART:20231105T070000
END:STANDARD
BEGIN:DAYLIGHT
TZOFFSETFROM:-0600
TZOFFSETTO:-0500
TZNAME:CDT
DTSTART:20240310T080000
END:DAYLIGHT
BEGIN:STANDARD
TZOFFSETFROM:-0500
TZOFFSETTO:-0600
TZNAME:CST
DTSTART:20241103T070000
END:STANDARD
BEGIN:DAYLIGHT
TZOFFSETFROM:-0600
TZOFFSETTO:-0500
TZNAME:CDT
DTSTART:20250309T080000
END:DAYLIGHT
BEGIN:STANDARD
TZOFFSETFROM:-0500
TZOFFSETTO:-0600
TZNAME:CST
DTSTART:20251102T070000
END:STANDARD
END:VTIMEZONE
BEGIN:VEVENT
DTSTART;TZID=America/Chicago:20241123T120000
DTEND;TZID=America/Chicago:20241123T220000
DTSTAMP:20260423T154811
CREATED:20221103T193714Z
LAST-MODIFIED:20241028T222801Z
UID:4860-1732363200-1732399200@bigdkettlecorn.com
SUMMARY:Six Flags Holiday In The Park
DESCRIPTION:Come join us again this year at Six Flags Arlington\, we open when the park does each day and stay to closing. \nSee the park transform into a magical winter wonderland with over two million twinkling lights\, festive eats and sweets\, holiday music\, and so much more! The magic of the season takes over at 5:00pm\n 
URL:https://bigdkettlecorn.com/event/six-flags-holiday-in-the-park/
LOCATION:Six Flags Over Texas Arlington\, 2201 E Road to Six Flags St\, Arlington\, Texas\, 76011
CATEGORIES:Christmas Event
ATTACH;FMTTYPE=image/png:https://bigdkettlecorn.com/wp-content/uploads/2022/11/hiplogo.png
END:VEVENT
END:VCALENDAR