BEGIN:VCALENDAR
VERSION:2.0
PRODID:-//Big D Kettle Corn - ECPv6.15.20//NONSGML v1.0//EN
CALSCALE:GREGORIAN
METHOD:PUBLISH
X-ORIGINAL-URL:https://bigdkettlecorn.com
X-WR-CALDESC:Events for Big D Kettle Corn
REFRESH-INTERVAL;VALUE=DURATION:PT1H
X-Robots-Tag:noindex
X-PUBLISHED-TTL:PT1H
BEGIN:VTIMEZONE
TZID:America/Chicago
BEGIN:DAYLIGHT
TZOFFSETFROM:-0600
TZOFFSETTO:-0500
TZNAME:CDT
DTSTART:20230312T080000
END:DAYLIGHT
BEGIN:STANDARD
TZOFFSETFROM:-0500
TZOFFSETTO:-0600
TZNAME:CST
DTSTART:20231105T070000
END:STANDARD
BEGIN:DAYLIGHT
TZOFFSETFROM:-0600
TZOFFSETTO:-0500
TZNAME:CDT
DTSTART:20240310T080000
END:DAYLIGHT
BEGIN:STANDARD
TZOFFSETFROM:-0500
TZOFFSETTO:-0600
TZNAME:CST
DTSTART:20241103T070000
END:STANDARD
BEGIN:DAYLIGHT
TZOFFSETFROM:-0600
TZOFFSETTO:-0500
TZNAME:CDT
DTSTART:20250309T080000
END:DAYLIGHT
BEGIN:STANDARD
TZOFFSETFROM:-0500
TZOFFSETTO:-0600
TZNAME:CST
DTSTART:20251102T070000
END:STANDARD
END:VTIMEZONE
BEGIN:VEVENT
DTSTART;TZID=America/Chicago:20240704T180000
DTEND;TZID=America/Chicago:20240704T220000
DTSTAMP:20260423T212743
CREATED:20220620T213149Z
LAST-MODIFIED:20240618T201706Z
UID:4774-1720116000-1720130400@bigdkettlecorn.com
SUMMARY:Frisco Freedom Festival 2024
DESCRIPTION:It’s Frisco’s biggest Fourth of July celebration! Celebrate our nation’s birthday with an evening of live music\, great food\, local vendors and Big D Kettle Corn during Frisco Freedom Fest Presented by CoServ. \nFavorite attractions at Frisco Freedom Fest include: Party in the Plaza\, Taste of Frisco and Patriotic Vendor Village. \nThe Party in the Plaza begins at 4 p.m.\, with the National Anthem and flag ceremony. \nDon’t leave early! Our fireworks extravaganza hosted by the City of Frisco\, FC Dallas and CoServ will once again light the night skies! The show begins after the conclusion of FC Dallas’ match (start time varies\, depending on how long the match runs\, weather permitting). This 20-minute show is one of the largest in the area.
URL:https://bigdkettlecorn.com/event/frisco-freedom-festival-2023/
LOCATION:Frisco Square\, 8843 Coleman Blvd\, Frisco\, TX\, 75034
CATEGORIES:Fourth of July Celebration
ATTACH;FMTTYPE=image/jpeg:https://bigdkettlecorn.com/wp-content/uploads/2022/06/Document-1.jpeg
END:VEVENT
BEGIN:VEVENT
DTSTART;TZID=America/Chicago:20240704T180000
DTEND;TZID=America/Chicago:20240704T220000
DTSTAMP:20260423T212743
CREATED:20220620T213557Z
LAST-MODIFIED:20240618T201306Z
UID:4778-1720116000-1720130400@bigdkettlecorn.com
SUMMARY:Plano All American 4th 2024
DESCRIPTION:Celebrate Independence Day at Plano’s All American 4th on Tuesday\, July 4! The festival is open from 6 to 10 pm\, with a parade at 7:30 pm and fireworks beginning at 9:30 pm. Parking will be available at Collin College (2800 E. Spring Creek Parkway). \nThis is a free\, family-friendly event open to the public. Come enjoy the free kid zone sponsored by Champion Energy Services\, parade by Rotary Parades of Plano\, and a fireworks show. Food and beverages are available for purchase. Blankets\, lawn chairs and coolers are welcome\, but please leave all pets at home. \nOn this birthday of the USA\, we’ll also celebrate Plano’s 150th birthday with free treats and gifts for all guests\, while supplies last\, as well as an Instagram-able birthday photo op.
URL:https://bigdkettlecorn.com/event/plano-all-american-4th-2022/
LOCATION:Collin College\, 2800 E Spring Creek Parkway\, Plano\, TX\, 75023
CATEGORIES:Fourth of July Celebration
ATTACH;FMTTYPE=image/png:https://bigdkettlecorn.com/wp-content/uploads/2022/06/All-American-4th-2022-Graphic-PNG.png
END:VEVENT
BEGIN:VEVENT
DTSTART;TZID=America/Chicago:20240704T180000
DTEND;TZID=America/Chicago:20240704T220000
DTSTAMP:20260423T212743
CREATED:20230626T170425Z
LAST-MODIFIED:20240618T201553Z
UID:5195-1720116000-1720130400@bigdkettlecorn.com
SUMMARY:Family 4th Celebration Richardson\, TX
DESCRIPTION:Sparks will fly at the City of Richardson’s annual Family 4th Celebration on Tuesday\, July 4\, 20244\, at Breckinridge Park. This traditional\, patriotic salute is free and open to the entire community. Attendees are encouraged to get some Big D Kettle Corn and bring blankets/or lawn chairs and enjoy the evening under the stars
URL:https://bigdkettlecorn.com/event/family-4th-celebration-richardson-tx/
LOCATION:Breckinridge Park\, 3555 Brand Rd\, Richardson\, Texas\, 75082
CATEGORIES:Fourth of July Celebration
ATTACH;FMTTYPE=image/jpeg:https://bigdkettlecorn.com/wp-content/uploads/2023/06/638204449583570000.jpeg
END:VEVENT
END:VCALENDAR